BEGIN:VCALENDAR
VERSION:2.0
PRODID:-//Old Strathcona Business Association, Edmonton - ECPv6.15.20//NONSGML v1.0//EN
CALSCALE:GREGORIAN
METHOD:PUBLISH
X-ORIGINAL-URL:https://oldstrathcona.ca
X-WR-CALDESC:Events for Old Strathcona Business Association, Edmonton
REFRESH-INTERVAL;VALUE=DURATION:PT1H
X-Robots-Tag:noindex
X-PUBLISHED-TTL:PT1H
BEGIN:VTIMEZONE
TZID:America/Edmonton
BEGIN:DAYLIGHT
TZOFFSETFROM:-0700
TZOFFSETTO:-0600
TZNAME:MDT
DTSTART:20240310T090000
END:DAYLIGHT
BEGIN:STANDARD
TZOFFSETFROM:-0600
TZOFFSETTO:-0700
TZNAME:MST
DTSTART:20241103T080000
END:STANDARD
BEGIN:DAYLIGHT
TZOFFSETFROM:-0700
TZOFFSETTO:-0600
TZNAME:MDT
DTSTART:20250309T090000
END:DAYLIGHT
BEGIN:STANDARD
TZOFFSETFROM:-0600
TZOFFSETTO:-0700
TZNAME:MST
DTSTART:20251102T080000
END:STANDARD
BEGIN:DAYLIGHT
TZOFFSETFROM:-0700
TZOFFSETTO:-0600
TZNAME:MDT
DTSTART:20260308T090000
END:DAYLIGHT
BEGIN:STANDARD
TZOFFSETFROM:-0600
TZOFFSETTO:-0700
TZNAME:MST
DTSTART:20261101T080000
END:STANDARD
END:VTIMEZONE
BEGIN:VEVENT
DTSTART;TZID=America/Edmonton:20251207T190000
DTEND;TZID=America/Edmonton:20251207T200000
DTSTAMP:20260425T050751
CREATED:20251113T182342Z
LAST-MODIFIED:20251113T182342Z
UID:10000663-1765134000-1765137600@oldstrathcona.ca
SUMMARY:Christmas in the Key of Jazz at Knox Church
DESCRIPTION:Join us for a soulful\, swinging celebration of the season featuring timeless Christmas favourites\, both sacred and secular.\n\n\n\nThe Leesila Dawkins Quintet presents a soulful\, swinging celebration of the season featuring timeless Christmas favourites\, both sacred and secular. The Quintet will be: \n🎤 Leesila Dawkins – vocals \n🎹 Zechariah Lim – piano \n🎷 Fred Mack – saxophone \n🎸 Murray Wood – bass \n🥁 Joel Jeschke– drums \nAll proceeds from the concert go to the Knox Church Restoration Fund to help repair the roof. \nWhen: Sunday\, December 7th at 7PM\nWhere: Knox Church\, 8403 104 Street NW\nCost: $15 advance\, $20 at the door
URL:https://oldstrathcona.ca/event/christmas-in-the-key-of-jazz-at-knox-church/
LOCATION:Knox Church\, 8403 104 St\, Edmonton\, Alberta\, Canada
CATEGORIES:Community,Music
ATTACH;FMTTYPE=image/jpeg:https://oldstrathcona.ca/wp-content/uploads/2025/11/knox-church-events.jpg
END:VEVENT
END:VCALENDAR