BEGIN:VCALENDAR
VERSION:2.0
PRODID:-//Old Strathcona Business Association, Edmonton - ECPv6.15.20//NONSGML v1.0//EN
CALSCALE:GREGORIAN
METHOD:PUBLISH
X-WR-CALNAME:Old Strathcona Business Association, Edmonton
X-ORIGINAL-URL:https://oldstrathcona.ca
X-WR-CALDESC:Events for Old Strathcona Business Association, Edmonton
REFRESH-INTERVAL;VALUE=DURATION:PT1H
X-Robots-Tag:noindex
X-PUBLISHED-TTL:PT1H
BEGIN:VTIMEZONE
TZID:America/Edmonton
BEGIN:DAYLIGHT
TZOFFSETFROM:-0700
TZOFFSETTO:-0600
TZNAME:MDT
DTSTART:20240310T090000
END:DAYLIGHT
BEGIN:STANDARD
TZOFFSETFROM:-0600
TZOFFSETTO:-0700
TZNAME:MST
DTSTART:20241103T080000
END:STANDARD
BEGIN:DAYLIGHT
TZOFFSETFROM:-0700
TZOFFSETTO:-0600
TZNAME:MDT
DTSTART:20250309T090000
END:DAYLIGHT
BEGIN:STANDARD
TZOFFSETFROM:-0600
TZOFFSETTO:-0700
TZNAME:MST
DTSTART:20251102T080000
END:STANDARD
BEGIN:DAYLIGHT
TZOFFSETFROM:-0700
TZOFFSETTO:-0600
TZNAME:MDT
DTSTART:20260308T090000
END:DAYLIGHT
BEGIN:STANDARD
TZOFFSETFROM:-0600
TZOFFSETTO:-0700
TZNAME:MST
DTSTART:20261101T080000
END:STANDARD
END:VTIMEZONE
BEGIN:VEVENT
DTSTART;TZID=America/Edmonton:20251214T190000
DTEND;TZID=America/Edmonton:20251214T200000
DTSTAMP:20260425T074525
CREATED:20251113T182744Z
LAST-MODIFIED:20251113T182744Z
UID:10000664-1765738800-1765742400@oldstrathcona.ca
SUMMARY:A Very Merry Twophonium Christmas at Knox Church
DESCRIPTION:Why have one euphonium when you can have two? Get into the Christmas season with this dynamic duo! Travis Kutz & Isye Morland\, better known as Twophonium\, bring their wind instrument magic to the historic Knox Church dome. A unique Christmas experience! \nAll proceeds from the concert go to the Knox Church Restoration Fund to help repair the roof. \nWhen: Sunday\, December 14th at 7PM\nWhere: Knox Church\, 8403 104 Street NW\nCost: $15 advance\, $20 at the door \n 
URL:https://oldstrathcona.ca/event/a-very-merry-twophonium-christmas-at-knox-church/
LOCATION:Knox Church\, 8403 104 St\, Edmonton\, Alberta\, Canada
CATEGORIES:Community,Music
ATTACH;FMTTYPE=image/jpeg:https://oldstrathcona.ca/wp-content/uploads/2025/11/knox-church-events.jpg
END:VEVENT
BEGIN:VEVENT
DTSTART;TZID=America/Edmonton:20251219T180000
DTEND;TZID=America/Edmonton:20251219T233000
DTSTAMP:20260425T074525
CREATED:20251211T184954Z
LAST-MODIFIED:20251211T184954Z
UID:10000752-1766167200-1766187000@oldstrathcona.ca
SUMMARY:Sonder Bridge Fundraiser at The Pint Whyte
DESCRIPTION:Sonder Bridge is an Edmonton-based nonprofit that addresses the homeless population. While providing water\, healthy food\, and warm gear\, we connect homeless individuals to resource centers and shelters through conversation and an emphasis on human connection. \nSonder Bridge is throwing our first ever fundraiser night on December 19th! Hosted by The Pint Whyte in tandem with their Ugly Xmas Sweater Party\, the silent auction with goodies from local businesses begins at 6\, live music starts at 7\, and aptly aesthetic vodka sunrises served all night! \nWhen: Friday\, December 19th at 6PM\nWhere: The Pint Whyte\, 8032 104 Street NW\nCost: Free
URL:https://oldstrathcona.ca/event/sonder-bridge-fundraiser-at-the-pint-whyte/
LOCATION:The Pint Whyte\, 8032 104 Street NW\, Edmonton\, Alberta\, T6E 1X4\, Canada
CATEGORIES:Community
END:VEVENT
BEGIN:VEVENT
DTSTART;TZID=America/Edmonton:20251220T120000
DTEND;TZID=America/Edmonton:20251220T173000
DTSTAMP:20260425T074525
CREATED:20251218T183253Z
LAST-MODIFIED:20251219T185952Z
UID:10000757-1766232000-1766251800@oldstrathcona.ca
SUMMARY:Ace Coffee x Gravitypope Pop-Up
DESCRIPTION:To celebrate the release of the gravitypope x Ace Coffee winter blend\, free hot coffee and espresso drinks will be specially brewed in store by our guest Ace Coffee barista at gravitypope Tailored Goods on Whyte Ave from 12-5:30 PM! \nWhen: Saturday\, December 20th\, from 12-5:30 PM\nWhere: Gravitypope Tailored Goods\, 10414 82 Ave NW\nCost: FREE!
URL:https://oldstrathcona.ca/event/ace-coffee-x-gravitypope-pop-up/
LOCATION:Gravitypope Tailored Goods\, 10414 82 AVe\, Edmonton\, Alberta\, T6E 2A2\, Canada
CATEGORIES:Community
ATTACH;FMTTYPE=image/webp:https://oldstrathcona.ca/wp-content/uploads/2025/12/gpproduct_960x874.webp
END:VEVENT
END:VCALENDAR