BEGIN:VCALENDAR
VERSION:2.0
PRODID:-//Old Strathcona Business Association, Edmonton - ECPv6.15.20//NONSGML v1.0//EN
CALSCALE:GREGORIAN
METHOD:PUBLISH
X-WR-CALNAME:Old Strathcona Business Association, Edmonton
X-ORIGINAL-URL:https://oldstrathcona.ca
X-WR-CALDESC:Events for Old Strathcona Business Association, Edmonton
REFRESH-INTERVAL;VALUE=DURATION:PT1H
X-Robots-Tag:noindex
X-PUBLISHED-TTL:PT1H
BEGIN:VTIMEZONE
TZID:America/Edmonton
BEGIN:DAYLIGHT
TZOFFSETFROM:-0700
TZOFFSETTO:-0600
TZNAME:MDT
DTSTART:20210314T090000
END:DAYLIGHT
BEGIN:STANDARD
TZOFFSETFROM:-0600
TZOFFSETTO:-0700
TZNAME:MST
DTSTART:20211107T080000
END:STANDARD
BEGIN:DAYLIGHT
TZOFFSETFROM:-0700
TZOFFSETTO:-0600
TZNAME:MDT
DTSTART:20220313T090000
END:DAYLIGHT
BEGIN:STANDARD
TZOFFSETFROM:-0600
TZOFFSETTO:-0700
TZNAME:MST
DTSTART:20221106T080000
END:STANDARD
BEGIN:DAYLIGHT
TZOFFSETFROM:-0700
TZOFFSETTO:-0600
TZNAME:MDT
DTSTART:20230312T090000
END:DAYLIGHT
BEGIN:STANDARD
TZOFFSETFROM:-0600
TZOFFSETTO:-0700
TZNAME:MST
DTSTART:20231105T080000
END:STANDARD
END:VTIMEZONE
BEGIN:VEVENT
DTSTART;TZID=America/Edmonton:20220903T140000
DTEND;TZID=America/Edmonton:20220910T220000
DTSTAMP:20260419T182009
CREATED:20220516T221807Z
LAST-MODIFIED:20220902T221649Z
UID:10000262-1662213600-1662847200@oldstrathcona.ca
SUMMARY:Mural Massive 2022
DESCRIPTION:Mural Massive is back for the third year and will bring a handful of new large-scale murals to Old Strathcona and Edmonton. Helping to beautify the city every year. Whoop whoop! Watch live mural painting throughout the 10 days of the festival\, check out bike mural tour on Wednesday\, September 7\, and celebrate all the art with an evening garden party at The Grindstone Theatre on Friday\, September 9.\nNew murals will be painted at Ibon Antiques (10423 79 Avenue) and the giant wall at SouthBARK\, Whyte Avenue’s pop-up dog part (10551 82 Avenue).
URL:https://oldstrathcona.ca/event/grindstones-mural-massive/
LOCATION:The Grindstone Comedy Theatre & Bistro\, 10019 81 Ave NW\, Edmonton
CATEGORIES:Festivals
ATTACH;FMTTYPE=image/png:https://oldstrathcona.ca/wp-content/uploads/2022/05/Mural-Massive-Events-Calendar.png
END:VEVENT
END:VCALENDAR