BEGIN:VCALENDAR
VERSION:2.0
PRODID:-//Old Strathcona Business Association, Edmonton - ECPv6.15.20//NONSGML v1.0//EN
CALSCALE:GREGORIAN
METHOD:PUBLISH
X-WR-CALNAME:Old Strathcona Business Association, Edmonton
X-ORIGINAL-URL:https://oldstrathcona.ca
X-WR-CALDESC:Events for Old Strathcona Business Association, Edmonton
REFRESH-INTERVAL;VALUE=DURATION:PT1H
X-Robots-Tag:noindex
X-PUBLISHED-TTL:PT1H
BEGIN:VTIMEZONE
TZID:America/Edmonton
BEGIN:DAYLIGHT
TZOFFSETFROM:-0700
TZOFFSETTO:-0600
TZNAME:MDT
DTSTART:20230312T090000
END:DAYLIGHT
BEGIN:STANDARD
TZOFFSETFROM:-0600
TZOFFSETTO:-0700
TZNAME:MST
DTSTART:20231105T080000
END:STANDARD
BEGIN:DAYLIGHT
TZOFFSETFROM:-0700
TZOFFSETTO:-0600
TZNAME:MDT
DTSTART:20240310T090000
END:DAYLIGHT
BEGIN:STANDARD
TZOFFSETFROM:-0600
TZOFFSETTO:-0700
TZNAME:MST
DTSTART:20241103T080000
END:STANDARD
BEGIN:DAYLIGHT
TZOFFSETFROM:-0700
TZOFFSETTO:-0600
TZNAME:MDT
DTSTART:20250309T090000
END:DAYLIGHT
BEGIN:STANDARD
TZOFFSETFROM:-0600
TZOFFSETTO:-0700
TZNAME:MST
DTSTART:20251102T080000
END:STANDARD
END:VTIMEZONE
BEGIN:VEVENT
DTSTART;TZID=America/Edmonton:20240308T193000
DTEND;TZID=America/Edmonton:20240308T220000
DTSTAMP:20260419T234528
CREATED:20240221T195635Z
LAST-MODIFIED:20240221T200331Z
UID:10000467-1709926200-1709935200@oldstrathcona.ca
SUMMARY:Cosmopolitan Music Society Presents: Spring Series 2024 Jazz Orchestra
DESCRIPTION:Unleash the rhythm and swing with the Cosmopolitan Music Society Jazz Orchestra! 🎶 \nGet ready to immerse yourself in a night of toe-tapping melodies as the Jazz Orchestra takes center stage to kick off the CMS Spring Series 2024. This inaugural event marks the beginning of nearly two full months of Friday night concerts as we play in Spring through March and April. \nMark your calendars\, gather your friends\, and join us on March 8th for an unforgettable start to the CMS Spring Series. Experience the energy\, groove\, and improvisation that only jazz can offer. It’s a night you won’t want to miss! \nPerforming at the Old Strathcona Performing Arts Centre\n8426 Gateway Blvd\, Edmonton AB \nDoors at 7:15 PM\nConcert Starts at 7:30 PM\nGeneral Admission Seating \nTickets:\nEarly Bird: $23.13 (including fees)\nAdult: $28.41 (including fees)\nStudent: $17.87 (including fees)\nFree for 5 yrs & under
URL:https://oldstrathcona.ca/event/cosmopolitan-music-society-presents-spring-series-2024-jazz-orchestra/
LOCATION:Old Strathcona Performing Arts Centre\, 8426 Gateway Blvd\, Edmonton\, Canada
CATEGORIES:Music
END:VEVENT
BEGIN:VEVENT
DTSTART;TZID=America/Edmonton:20240315T193000
DTEND;TZID=America/Edmonton:20240315T220000
DTSTAMP:20260419T234528
CREATED:20240221T200248Z
LAST-MODIFIED:20240221T201339Z
UID:10000468-1710531000-1710540000@oldstrathcona.ca
SUMMARY:Cosmopolitan Music Society Presents: Spring Series 2024 Monday Band
DESCRIPTION:Dive into the heart of the Cosmopolitan Music Society with the Monday Band at the Old Strathcona Performing Arts Centre on March 15th! \nJoin us for a showcase of the pinnacle of Cosmopolitan Music Society Concert Band Programming. This performance is a testament to the dedication and skill of our members\, making it a must-attend event for music enthusiasts. Come witness the elevated standard of community music on March 15th. \nPerforming at the Old Strathcona Performing Arts Centre\n8426 Gateway Blvd\, Edmonton AB \nDoors at 7:15 PM\nConcert Starts at 7:30 PM\nGeneral Admission Seating \nTickets:\nEarly Bird: $23.13 (including fees)\nAdult: $28.41 (including fees)\nStudent: $17.87 (including fees)\nFree for 5 yrs & under
URL:https://oldstrathcona.ca/event/10883/
LOCATION:Old Strathcona Performing Arts Centre\, 8426 Gateway Blvd\, Edmonton\, Canada
CATEGORIES:Music
END:VEVENT
BEGIN:VEVENT
DTSTART;TZID=America/Edmonton:20240322T193000
DTEND;TZID=America/Edmonton:20240322T220000
DTSTAMP:20260419T234528
CREATED:20240221T200900Z
LAST-MODIFIED:20240221T200900Z
UID:10000469-1711135800-1711144800@oldstrathcona.ca
SUMMARY:Cosmopolitan Music Society Presents: Spring Series 2024 Tuesday Band
DESCRIPTION:Join us for an evening of music as the Cosmopolitan Music Society Tuesday Band takes the stage at the Old Strathcona Performing Arts Centre on March 22nd! \nExperience the vibrant sounds of our community’s talented musicians\, showcasing their skills in an array of classical and contemporary pieces. The Tuesday Band represents the essence of community music programming\, delivering an engaging performance that strikes a perfect balance between skill and accessibility. \nThis event celebrates the spirit of our local musicians and their commitment to creating beautiful music together. Join us for a memorable night community music on March 22nd. \nPerforming at the Old Strathcona Performing Arts Centre\n8426 Gateway Blvd\, Edmonton AB \nDoors at 7:15 PM\nConcert Starts at 7:30 PM\nGeneral Admission Seating \nTickets:\nEarly Bird: $23.13 (including fees)\nAdult: $28.41 (including fees)\nStudent: $17.87 (including fees)\nFree for 5 yrs & under
URL:https://oldstrathcona.ca/event/cosmopolitan-music-society-presents-spring-series-2024-tuesday-band/
LOCATION:Old Strathcona Performing Arts Centre\, 8426 Gateway Blvd\, Edmonton\, Canada
CATEGORIES:Music
END:VEVENT
END:VCALENDAR