BEGIN:VCALENDAR
VERSION:2.0
PRODID:-//Old Strathcona Business Association, Edmonton - ECPv6.15.20//NONSGML v1.0//EN
CALSCALE:GREGORIAN
METHOD:PUBLISH
X-ORIGINAL-URL:https://oldstrathcona.ca
X-WR-CALDESC:Events for Old Strathcona Business Association, Edmonton
REFRESH-INTERVAL;VALUE=DURATION:PT1H
X-Robots-Tag:noindex
X-PUBLISHED-TTL:PT1H
BEGIN:VTIMEZONE
TZID:America/Edmonton
BEGIN:DAYLIGHT
TZOFFSETFROM:-0700
TZOFFSETTO:-0600
TZNAME:MDT
DTSTART:20220313T090000
END:DAYLIGHT
BEGIN:STANDARD
TZOFFSETFROM:-0600
TZOFFSETTO:-0700
TZNAME:MST
DTSTART:20221106T080000
END:STANDARD
BEGIN:DAYLIGHT
TZOFFSETFROM:-0700
TZOFFSETTO:-0600
TZNAME:MDT
DTSTART:20230312T090000
END:DAYLIGHT
BEGIN:STANDARD
TZOFFSETFROM:-0600
TZOFFSETTO:-0700
TZNAME:MST
DTSTART:20231105T080000
END:STANDARD
BEGIN:DAYLIGHT
TZOFFSETFROM:-0700
TZOFFSETTO:-0600
TZNAME:MDT
DTSTART:20240310T090000
END:DAYLIGHT
BEGIN:STANDARD
TZOFFSETFROM:-0600
TZOFFSETTO:-0700
TZNAME:MST
DTSTART:20241103T080000
END:STANDARD
END:VTIMEZONE
BEGIN:VEVENT
DTSTART;TZID=America/Edmonton:20230311T180000
DTEND;TZID=America/Edmonton:20230311T220000
DTSTAMP:20260421T113101
CREATED:20230223T171949Z
LAST-MODIFIED:20230223T171949Z
UID:10000353-1678557600-1678572000@oldstrathcona.ca
SUMMARY:JUNOFEST PRESENTED BY CBC MUSIC CARTER & THE CAPITALS\, FKB\, PURPLE CITY DISCO
DESCRIPTION:JUNOfest presented by CBC Music\nPerformers: Carter & The Capitals\, FKB\, Purple City Disco \n  \n$1 from each ticket will be donated to MusiCounts\, Canada’s music education charity associated with The Canadian Academy of Recording Arts and Sciences and The JUNO Awards. To learn more about MusiCounts\, please visit their website at musicounts.ca. \n\n8 Max Ticket Limit\nAccounts found in violation of the posted ticket limit may be cancelled without notice.
URL:https://oldstrathcona.ca/event/junofest-presented-by-cbc-music-carter-the-capitals-fkb-purple-city-disco/
LOCATION:The Buckingham\, 10439 82 Ave NW\, Edmonton\, AB\, T6E2A1\, Canada
CATEGORIES:Arts,Music
ATTACH;FMTTYPE=image/png:https://oldstrathcona.ca/wp-content/uploads/2023/02/8f926618471823de.png
END:VEVENT
END:VCALENDAR