BEGIN:VCALENDAR
VERSION:2.0
PRODID:-//Old Strathcona Business Association, Edmonton - ECPv6.15.20//NONSGML v1.0//EN
CALSCALE:GREGORIAN
METHOD:PUBLISH
X-ORIGINAL-URL:https://oldstrathcona.ca
X-WR-CALDESC:Events for Old Strathcona Business Association, Edmonton
REFRESH-INTERVAL;VALUE=DURATION:PT1H
X-Robots-Tag:noindex
X-PUBLISHED-TTL:PT1H
BEGIN:VTIMEZONE
TZID:America/Edmonton
BEGIN:DAYLIGHT
TZOFFSETFROM:-0700
TZOFFSETTO:-0600
TZNAME:MDT
DTSTART:20220313T090000
END:DAYLIGHT
BEGIN:STANDARD
TZOFFSETFROM:-0600
TZOFFSETTO:-0700
TZNAME:MST
DTSTART:20221106T080000
END:STANDARD
BEGIN:DAYLIGHT
TZOFFSETFROM:-0700
TZOFFSETTO:-0600
TZNAME:MDT
DTSTART:20230312T090000
END:DAYLIGHT
BEGIN:STANDARD
TZOFFSETFROM:-0600
TZOFFSETTO:-0700
TZNAME:MST
DTSTART:20231105T080000
END:STANDARD
BEGIN:DAYLIGHT
TZOFFSETFROM:-0700
TZOFFSETTO:-0600
TZNAME:MDT
DTSTART:20240310T090000
END:DAYLIGHT
BEGIN:STANDARD
TZOFFSETFROM:-0600
TZOFFSETTO:-0700
TZNAME:MST
DTSTART:20241103T080000
END:STANDARD
END:VTIMEZONE
BEGIN:VEVENT
DTSTART;TZID=America/Edmonton:20230618T120000
DTEND;TZID=America/Edmonton:20230618T140000
DTSTAMP:20260421T074836
CREATED:20230614T163534Z
LAST-MODIFIED:20230614T163534Z
UID:10000334-1687089600-1687096800@oldstrathcona.ca
SUMMARY:Hudsons Whyte Hip Hop Brunch
DESCRIPTION:Come down this Father’s Day to enjoy some Hip Hop music and brunch! Enjoy $5 Mimosas\, Beermosas and Shafts\, as well as a word search! \nGet ready to groove to the beats and savor delicious brunch dishes at Hudsons Whyte Hip Hop Brunch on Sun Jun 18 2023 at 12:00 PM in Edmonton\, AB. \n  \nLocated at 10307 82 Avenue Northwest\, the event promises an exciting blend of hip hop music\, mouthwatering brunch\, and a lively atmosphere. \n  \nJoin us for an unforgettable Sunday brunch that brings together the best of hip hop culture and cuisine. Whether you’re a fan of old-school beats or new-age rhythms\, this event has got something for everyone. \n  \nSo\, mark your calendars and come dressed to impress. We can’t wait to see you there!
URL:https://oldstrathcona.ca/event/hudsons-whyte-hip-hop-brunch/
LOCATION:Hudsons Whyte\, 10307 82 Ave NW\, Edmonton\, Canada
CATEGORIES:Music
ATTACH;FMTTYPE=image/jpeg:https://oldstrathcona.ca/wp-content/uploads/2023/06/hudsons.jpeg
END:VEVENT
END:VCALENDAR