BEGIN:VCALENDAR
VERSION:2.0
PRODID:-//Old Strathcona Business Association, Edmonton - ECPv6.15.20//NONSGML v1.0//EN
CALSCALE:GREGORIAN
METHOD:PUBLISH
X-WR-CALNAME:Old Strathcona Business Association, Edmonton
X-ORIGINAL-URL:https://oldstrathcona.ca
X-WR-CALDESC:Events for Old Strathcona Business Association, Edmonton
REFRESH-INTERVAL;VALUE=DURATION:PT1H
X-Robots-Tag:noindex
X-PUBLISHED-TTL:PT1H
BEGIN:VTIMEZONE
TZID:America/Edmonton
BEGIN:DAYLIGHT
TZOFFSETFROM:-0700
TZOFFSETTO:-0600
TZNAME:MDT
DTSTART:20230312T090000
END:DAYLIGHT
BEGIN:STANDARD
TZOFFSETFROM:-0600
TZOFFSETTO:-0700
TZNAME:MST
DTSTART:20231105T080000
END:STANDARD
BEGIN:DAYLIGHT
TZOFFSETFROM:-0700
TZOFFSETTO:-0600
TZNAME:MDT
DTSTART:20240310T090000
END:DAYLIGHT
BEGIN:STANDARD
TZOFFSETFROM:-0600
TZOFFSETTO:-0700
TZNAME:MST
DTSTART:20241103T080000
END:STANDARD
BEGIN:DAYLIGHT
TZOFFSETFROM:-0700
TZOFFSETTO:-0600
TZNAME:MDT
DTSTART:20250309T090000
END:DAYLIGHT
BEGIN:STANDARD
TZOFFSETFROM:-0600
TZOFFSETTO:-0700
TZNAME:MST
DTSTART:20251102T080000
END:STANDARD
END:VTIMEZONE
BEGIN:VEVENT
DTSTART;TZID=America/Edmonton:20241212T193000
DTEND;TZID=America/Edmonton:20241212T220000
DTSTAMP:20260419T072635
CREATED:20241202T162159Z
LAST-MODIFIED:20241202T162159Z
UID:10000550-1734031800-1734040800@oldstrathcona.ca
SUMMARY:A Very Cosmopolitan Christmas - Traditional Favourites
DESCRIPTION:Enjoy a night of festive Christmas music to celebrate the holidays with family and friends. Featuring the Wednesday and Beginner Bands\, and the Cosmopolitones Jazz Band. \nWhen: Thursday\, December 12th at 7:30 PM\nWhere: Old Strathcona Performing Arts Centre\, 8426 Gateway Blvd\nTickets: $20 for adults\, $12 students (with ID\, or under 18)\, and free for children under 5.
URL:https://oldstrathcona.ca/event/cosmopolitan-christmas-traditional-favourites/
LOCATION:Old Strathcona Performing Arts Centre\, 8426 Gateway Blvd\, Edmonton\, Canada
CATEGORIES:Music
ATTACH;FMTTYPE=application/pdf:https://oldstrathcona.ca/wp-content/uploads/2024/12/CMS-Xmas-Concerts-2024.pdf
END:VEVENT
BEGIN:VEVENT
DTSTART;TZID=America/Edmonton:20241213T190000
DTEND;TZID=America/Edmonton:20241213T210000
DTSTAMP:20260419T072635
CREATED:20241204T221151Z
LAST-MODIFIED:20241204T221151Z
UID:10000554-1734116400-1734123600@oldstrathcona.ca
SUMMARY:Messiah at the Market: It's going to be EPIC
DESCRIPTION:Celebrate the holidays with a magical night of music and community!\nMessiah at the Market: It’s going to be EPIC\nVisit Epic Market for a Messiah Sing-Along concert with the Edmonton Opera Chorus for an unforgettable night of music and holiday cheer! \nAlongside the Edmonton Opera Core Chorus and other surprise performers\, you’re invited to sing-along to one of the most beautiful\, inspiring holiday soundtracks: Handel’s Messiah. With food\, drinks\, and a relaxed atmosphere\, it’s the perfect way to embrace the festive spirit. \nThis is an exciting partnership with EPIC Market on Whyte Ave. If you’ve enjoyed Opera Pub\, you’ll feel right at home! Arrive early to grab your spot\, order some food\, and get ready to sing your heart out alongside the Edmonton Opera Chorus. \nBook your ticket now and be part of an inspired evening for the whole family. And here’s a bonus: Your $10 ticket doubles as a food and drink credit at EPIC Market on the night of the event. \nSing-Along with the Edmonton Opera Chorus\nTo ensure you’re part of the magic\, printed scores will be available\, along with QR codes for quick access to lyrics on your phone. However\, you’re encouraged to BYOS (Bring Your Own Score) for the full experience! Whether you’re a seasoned singer or just love the sound of a choir\, this is your chance to raise your voice with friends\, family\, and the Edmonton Opera community at EPIC Market. \nSupport iHuman and Spread the Warmth\nIn the spirit of giving\, we’re partnering with iHuman\, an incredible organization that supports high-risk youth in our city. \nWe invite you to bring donations of essential winter items\, such as: \n\nSocks\nMittens\nScarves\nOther warm clothing items suitable for youth\n\nLet’s come together to help Edmonton’s vulnerable youth stay warm this winter. Donations can be dropped off when you arrive at Messiah at the Market. \nDon’t miss this one of a kind holiday experience. Reserve your spot today! \nWhen: Friday\, December 13th from 7-9 PM\nWhere: Epic Market\, #201 8115 Gateway Blvd\nTickets: $12 on Eventbrite
URL:https://oldstrathcona.ca/event/messiah-at-the-market-its-going-to-be-epic/
LOCATION:Epic Market\, 8115 Gateway Blvd #201\, Edmonton\, Alberta\, T6E 3X8\, Canada
CATEGORIES:Music
ATTACH;FMTTYPE=image/jpeg:https://oldstrathcona.ca/wp-content/uploads/2024/12/Epic-Opera.jpg
END:VEVENT
BEGIN:VEVENT
DTSTART;TZID=America/Edmonton:20241214T143000
DTEND;TZID=America/Edmonton:20241214T170000
DTSTAMP:20260419T072635
CREATED:20241202T162613Z
LAST-MODIFIED:20241202T162613Z
UID:10000551-1734186600-1734195600@oldstrathcona.ca
SUMMARY:A Very Cosmopolitan Christmas - Shostakovich Jazz Suite No.2\, Contemporary Christmas
DESCRIPTION:Get into the holiday spirit at the Shostakovich Jazz Suite No.2\, Contemporary Christmas. Featuring the Monday and Tuesday Concert Bands\, and the Jazz Big Band. \nWhen: Saturday\, December 14th at 2:30 PM\nWhere: Old Strathcona Performing Arts Centre\, 8426 Gateway Blvd\nTickets: $20 for adults\, $12 students (with ID\, or under 18)\, and free for children under 5.
URL:https://oldstrathcona.ca/event/cosmopolitan-christmas-jazz/
LOCATION:Old Strathcona Performing Arts Centre\, 8426 Gateway Blvd\, Edmonton\, Canada
CATEGORIES:Music
ATTACH;FMTTYPE=application/pdf:https://oldstrathcona.ca/wp-content/uploads/2024/12/CMS-Xmas-Concerts-2024-1.pdf
END:VEVENT
END:VCALENDAR