BEGIN:VCALENDAR
VERSION:2.0
PRODID:-//Old Strathcona Business Association, Edmonton - ECPv6.15.20//NONSGML v1.0//EN
CALSCALE:GREGORIAN
METHOD:PUBLISH
X-ORIGINAL-URL:https://oldstrathcona.ca
X-WR-CALDESC:Events for Old Strathcona Business Association, Edmonton
REFRESH-INTERVAL;VALUE=DURATION:PT1H
X-Robots-Tag:noindex
X-PUBLISHED-TTL:PT1H
BEGIN:VTIMEZONE
TZID:America/Edmonton
BEGIN:DAYLIGHT
TZOFFSETFROM:-0700
TZOFFSETTO:-0600
TZNAME:MDT
DTSTART:20220313T090000
END:DAYLIGHT
BEGIN:STANDARD
TZOFFSETFROM:-0600
TZOFFSETTO:-0700
TZNAME:MST
DTSTART:20221106T080000
END:STANDARD
BEGIN:DAYLIGHT
TZOFFSETFROM:-0700
TZOFFSETTO:-0600
TZNAME:MDT
DTSTART:20230312T090000
END:DAYLIGHT
BEGIN:STANDARD
TZOFFSETFROM:-0600
TZOFFSETTO:-0700
TZNAME:MST
DTSTART:20231105T080000
END:STANDARD
BEGIN:DAYLIGHT
TZOFFSETFROM:-0700
TZOFFSETTO:-0600
TZNAME:MDT
DTSTART:20240310T090000
END:DAYLIGHT
BEGIN:STANDARD
TZOFFSETFROM:-0600
TZOFFSETTO:-0700
TZNAME:MST
DTSTART:20241103T080000
END:STANDARD
END:VTIMEZONE
BEGIN:VEVENT
DTSTART;TZID=America/Edmonton:20230615T190000
DTEND;TZID=America/Edmonton:20230615T210000
DTSTAMP:20260419T075252
CREATED:20230613T194222Z
LAST-MODIFIED:20230613T194222Z
UID:10000333-1686855600-1686862800@oldstrathcona.ca
SUMMARY:Paint Nite: The Original Paint and Sip Party
DESCRIPTION:Paint Nite with Kevin Fischer \nPainting: Moonshine Mountains  \nAge Group: 18+ \nGet together with your friends for a night out like no other! You will discover your inner artist as you create your own painting with our expert and entertaining guidance. We provide all necessary supplies – all you need to to is show up\, order a drink\, and get ready to paint. There’s no experience necessary – you’ll be amazed at what you can create! \n  \nThe Pint on Whyte is located just south of Whyte avenue.  Please support this amazing venue by purchasing drinks and/or food.  It makes your night that much more enjoyable!  Oh – and there’s $5 drinks on Thursdays!
URL:https://oldstrathcona.ca/event/paint-nite-the-original-paint-and-sip-party/
LOCATION:The Pint Whyte\, 8032 104 Street NW\, Edmonton\, Alberta\, T6E 1X4\, Canada
ATTACH;FMTTYPE=image/jpeg:https://oldstrathcona.ca/wp-content/uploads/2023/06/paintnite.jpeg
END:VEVENT
END:VCALENDAR