BEGIN:VCALENDAR
VERSION:2.0
PRODID:-//Old Strathcona Business Association, Edmonton - ECPv6.15.20//NONSGML v1.0//EN
CALSCALE:GREGORIAN
METHOD:PUBLISH
X-ORIGINAL-URL:https://oldstrathcona.ca
X-WR-CALDESC:Events for Old Strathcona Business Association, Edmonton
REFRESH-INTERVAL;VALUE=DURATION:PT1H
X-Robots-Tag:noindex
X-PUBLISHED-TTL:PT1H
BEGIN:VTIMEZONE
TZID:America/Edmonton
BEGIN:DAYLIGHT
TZOFFSETFROM:-0700
TZOFFSETTO:-0600
TZNAME:MDT
DTSTART:20210314T090000
END:DAYLIGHT
BEGIN:STANDARD
TZOFFSETFROM:-0600
TZOFFSETTO:-0700
TZNAME:MST
DTSTART:20211107T080000
END:STANDARD
BEGIN:DAYLIGHT
TZOFFSETFROM:-0700
TZOFFSETTO:-0600
TZNAME:MDT
DTSTART:20220313T090000
END:DAYLIGHT
BEGIN:STANDARD
TZOFFSETFROM:-0600
TZOFFSETTO:-0700
TZNAME:MST
DTSTART:20221106T080000
END:STANDARD
BEGIN:DAYLIGHT
TZOFFSETFROM:-0700
TZOFFSETTO:-0600
TZNAME:MDT
DTSTART:20230312T090000
END:DAYLIGHT
BEGIN:STANDARD
TZOFFSETFROM:-0600
TZOFFSETTO:-0700
TZNAME:MST
DTSTART:20231105T080000
END:STANDARD
BEGIN:DAYLIGHT
TZOFFSETFROM:-0700
TZOFFSETTO:-0600
TZNAME:MDT
DTSTART:20240310T090000
END:DAYLIGHT
BEGIN:STANDARD
TZOFFSETFROM:-0600
TZOFFSETTO:-0700
TZNAME:MST
DTSTART:20241103T080000
END:STANDARD
BEGIN:DAYLIGHT
TZOFFSETFROM:-0700
TZOFFSETTO:-0600
TZNAME:MDT
DTSTART:20250309T090000
END:DAYLIGHT
BEGIN:STANDARD
TZOFFSETFROM:-0600
TZOFFSETTO:-0700
TZNAME:MST
DTSTART:20251102T080000
END:STANDARD
END:VTIMEZONE
BEGIN:VEVENT
DTSTART;TZID=America/Edmonton:20240907T140000
DTEND;TZID=America/Edmonton:20240907T220000
DTSTAMP:20260424T060507
CREATED:20240725T184622Z
LAST-MODIFIED:20240725T190451Z
UID:10000496-1725717600-1725746400@oldstrathcona.ca
SUMMARY:Cocktails and Jerk Festival
DESCRIPTION:The Cocktails ‘n Jerk Festival is an annual family-friendly celebration that brings the vibrant flavours\, rhythms\, and traditions of the Caribbean to the heart of Edmonton. Since its inception in 2021\, the festival has rapidly become a must-attend summer event for those eager to experience the rich cultural tapestry of the Caribbean\, without leaving Canada. Set against the backdrop of Edmonton’s dynamic urban landscape\, the Cocktails ‘n Jerk Festival offers a unique opportunity to immerse yourself in the authentic sounds of reggae\, dancehall\, and soca music. As the pulsating beats fill the air\, festival-goers can savor the mouth-watering taste of jerk chicken\, indulge in exotic cocktails\, and explore a variety of other Caribbean delicacies that promise to transport your taste buds straight to the islands. \nWhere: Dr. Wilbert McIntyre Park\, 8331 104 St NW\nWhen: September 6\, 2024\, from 4:00 pm to 10:00 pm and September 7\, 2024\, from 2:00 pm to 10:00 pm \nTicket Information: Early Bird Tickets are on sale until August 15th for $20 + taxes and fees. After August 15th\, tickets will be $25 + taxes and fees and $30 + taxes and fees at the door. Get tickets here!
URL:https://oldstrathcona.ca/event/cocktails-and-jerk-festival/2024-09-07/
LOCATION:Dr. Wilbert Mcintyre Park\, Edmonton\, Canada
ATTACH;FMTTYPE=image/jpeg:https://oldstrathcona.ca/wp-content/uploads/2024/07/Cocktail-Jerk-2024_Social_a-e1721933283156.jpg
END:VEVENT
BEGIN:VEVENT
DTSTART;TZID=America/Edmonton:20240906T160000
DTEND;TZID=America/Edmonton:20240906T220000
DTSTAMP:20260424T060507
CREATED:20240725T184622Z
LAST-MODIFIED:20240725T190451Z
UID:10000495-1725638400-1725660000@oldstrathcona.ca
SUMMARY:Cocktails and Jerk Festival
DESCRIPTION:The Cocktails ‘n Jerk Festival is an annual family-friendly celebration that brings the vibrant flavours\, rhythms\, and traditions of the Caribbean to the heart of Edmonton. Since its inception in 2021\, the festival has rapidly become a must-attend summer event for those eager to experience the rich cultural tapestry of the Caribbean\, without leaving Canada. Set against the backdrop of Edmonton’s dynamic urban landscape\, the Cocktails ‘n Jerk Festival offers a unique opportunity to immerse yourself in the authentic sounds of reggae\, dancehall\, and soca music. As the pulsating beats fill the air\, festival-goers can savor the mouth-watering taste of jerk chicken\, indulge in exotic cocktails\, and explore a variety of other Caribbean delicacies that promise to transport your taste buds straight to the islands. \nWhere: Dr. Wilbert McIntyre Park\, 8331 104 St NW\nWhen: September 6\, 2024\, from 4:00 pm to 10:00 pm and September 7\, 2024\, from 2:00 pm to 10:00 pm \nTicket Information: Early Bird Tickets are on sale until August 15th for $20 + taxes and fees. After August 15th\, tickets will be $25 + taxes and fees and $30 + taxes and fees at the door. Get tickets here!
URL:https://oldstrathcona.ca/event/cocktails-and-jerk-festival/2024-09-06/
LOCATION:Dr. Wilbert Mcintyre Park\, Edmonton\, Canada
ATTACH;FMTTYPE=image/jpeg:https://oldstrathcona.ca/wp-content/uploads/2024/07/Cocktail-Jerk-2024_Social_a-e1721933283156.jpg
END:VEVENT
BEGIN:VEVENT
DTSTART;TZID=America/Edmonton:20230901T160000
DTEND;TZID=America/Edmonton:20230903T220000
DTSTAMP:20260424T060507
CREATED:20230829T213334Z
LAST-MODIFIED:20230829T213334Z
UID:10000453-1693584000-1693778400@oldstrathcona.ca
SUMMARY:Cocktails n' Jerk Festival
DESCRIPTION:The annual Cocktails and Jerk Festival is a Caribbean themed event that invites patrons into a space of mutual cultural learning and engagement. Nothing brings people together like good food and music\, and this festival showcases both. With a mix of musical offerings that vibrate with Caribbean energy and Afro rhythms\, there is no shortage of opportunities to let loose and dance. Djs\, dancers\, both local and international talents\, take to the stage eager to get the crowd moving. \nOur intent is to also make every Western Canadian aware of “Jerk Culture”. We are spreading the knowledge of the beautiful history behind this flavourful style of meat preparation. Edmonton’s top Caribbean food vendors will tantalize taste buds with this popular Caribbean street food. And you cannot have a cultural conversation about the Caribbean Islands without touching on the wide variety of rums and how much it is a part of our heritage and daily life. Luscious alcoholic and non-alcoholic cocktails prepared by skilled mixologists help give our patrons the feeling of a relaxing one-day staycation vibe right before the long winter period.
URL:https://oldstrathcona.ca/event/cocktails-n-jerk-festival-2/
LOCATION:Dr. Wilbert Mcintyre Park\, Edmonton\, Canada
ATTACH;FMTTYPE=image/png:https://oldstrathcona.ca/wp-content/uploads/2023/08/Screenshot-4.png
END:VEVENT
BEGIN:VEVENT
DTSTART;VALUE=DATE:20220903
DTEND;VALUE=DATE:20220905
DTSTAMP:20260424T060507
CREATED:20220425T205724Z
LAST-MODIFIED:20220712T180416Z
UID:10000254-1662163200-1662335999@oldstrathcona.ca
SUMMARY:Cocktails N Jerk Festival
DESCRIPTION:Cocktails and Jerk is a festival which embodies the diversity of the city of Edmonton. They are offering a different entertainment perspective; Caribbean street food\, luscious non-alcoholic and alcoholic cocktails\, live music and dance performances; right in the heart of Alberta’s capital city. Their intent is to give patrons a relaxing staycation vibe right before the long winter period.
URL:https://oldstrathcona.ca/event/cocktails-n-jerk-festival/
LOCATION:McIntyre Park\, 8331 104 Street\, Edmonton
CATEGORIES:Festivals
ATTACH;FMTTYPE=image/jpeg:https://oldstrathcona.ca/wp-content/uploads/2022/04/Cocktails-N-Jerk-Flyer-4x6-FAW-01.jpeg
END:VEVENT
END:VCALENDAR