BEGIN:VCALENDAR
VERSION:2.0
PRODID:-//Old Strathcona Business Association, Edmonton - ECPv6.15.20//NONSGML v1.0//EN
CALSCALE:GREGORIAN
METHOD:PUBLISH
X-WR-CALNAME:Old Strathcona Business Association, Edmonton
X-ORIGINAL-URL:https://oldstrathcona.ca
X-WR-CALDESC:Events for Old Strathcona Business Association, Edmonton
REFRESH-INTERVAL;VALUE=DURATION:PT1H
X-Robots-Tag:noindex
X-PUBLISHED-TTL:PT1H
BEGIN:VTIMEZONE
TZID:America/Edmonton
BEGIN:DAYLIGHT
TZOFFSETFROM:-0700
TZOFFSETTO:-0600
TZNAME:MDT
DTSTART:20210314T090000
END:DAYLIGHT
BEGIN:STANDARD
TZOFFSETFROM:-0600
TZOFFSETTO:-0700
TZNAME:MST
DTSTART:20211107T080000
END:STANDARD
BEGIN:DAYLIGHT
TZOFFSETFROM:-0700
TZOFFSETTO:-0600
TZNAME:MDT
DTSTART:20220313T090000
END:DAYLIGHT
BEGIN:STANDARD
TZOFFSETFROM:-0600
TZOFFSETTO:-0700
TZNAME:MST
DTSTART:20221106T080000
END:STANDARD
BEGIN:DAYLIGHT
TZOFFSETFROM:-0700
TZOFFSETTO:-0600
TZNAME:MDT
DTSTART:20230312T090000
END:DAYLIGHT
BEGIN:STANDARD
TZOFFSETFROM:-0600
TZOFFSETTO:-0700
TZNAME:MST
DTSTART:20231105T080000
END:STANDARD
BEGIN:DAYLIGHT
TZOFFSETFROM:-0700
TZOFFSETTO:-0600
TZNAME:MDT
DTSTART:20240310T090000
END:DAYLIGHT
BEGIN:STANDARD
TZOFFSETFROM:-0600
TZOFFSETTO:-0700
TZNAME:MST
DTSTART:20241103T080000
END:STANDARD
BEGIN:DAYLIGHT
TZOFFSETFROM:-0700
TZOFFSETTO:-0600
TZNAME:MDT
DTSTART:20250309T090000
END:DAYLIGHT
BEGIN:STANDARD
TZOFFSETFROM:-0600
TZOFFSETTO:-0700
TZNAME:MST
DTSTART:20251102T080000
END:STANDARD
BEGIN:DAYLIGHT
TZOFFSETFROM:-0700
TZOFFSETTO:-0600
TZNAME:MDT
DTSTART:20260308T090000
END:DAYLIGHT
BEGIN:STANDARD
TZOFFSETFROM:-0600
TZOFFSETTO:-0700
TZNAME:MST
DTSTART:20261101T080000
END:STANDARD
END:VTIMEZONE
BEGIN:VEVENT
DTSTART;VALUE=DATE:20250814
DTEND;VALUE=DATE:20250825
DTSTAMP:20260424T060310
CREATED:20250730T190434Z
LAST-MODIFIED:20250730T190434Z
UID:10000622-1755129600-1756079999@oldstrathcona.ca
SUMMARY:Edmonton International Fringe Theatre Festival
DESCRIPTION:The Edmonton International Fringe Theatre Festival spotlights more than 223 indoor theatre productions in 40 venues featuring performances by more than 1\,600 Artists from right here at home\, across Canada\, and around the world! \nThe Fringe Festival also features 35 Outdoor Artists and a FREE Music Series in ATB (McIntyre) Park. KidsFringe is FREE for children and their caregiviers – all shows and activities at KidsFringe are FREE! Food and Artisan Vendors offer a spectacular variety of eats and treats. \nThe Edmonton International Fringe Theatre Festival is the largest and longest-running Fringe Theatre Festival in North America\, ranking among the top five worldwide alongside the Adelaide Fringe in Australia and the Edinburgh Festival Fringe in Scotland. \nDedicated to fostering creative connections between the community and the arts\, the Festival provides a platform for the unconventional and out-of-the-ordinary. \nCondé Nast Traveler describes the Edmonton Fringe Festival as a must-visit destination\, whether for seasoned attendees or first-time visitors. \nLonely Planet recognized the Edmonton Fringe Theatre Festival as the #1 Highlight in its Best Cities to Travel to in 2025\, while the Edmonton Tourism Awards named Fringe the 2024 Festival of the Year. \nWhen: Thursday August 14 to Monday August 24\, 2025\nWhere: Fringe Theatre Arts Barns – 10330 84 Ave NW\nCost: All tickets to indoor theatre shows are $20 or less. KidsFringe and Music Series are FREE – no tickets required!
URL:https://oldstrathcona.ca/event/edmonton-international-fringe-theatre-festival/
LOCATION:Fringe Theatre Arts Barns\, 10330 84 Avenue\, Edmonton\, AB\, T6E2G9
CATEGORIES:Festivals,Arts
ATTACH;FMTTYPE=image/jpeg:https://oldstrathcona.ca/wp-content/uploads/2025/07/fringe-festival.jpg
END:VEVENT
BEGIN:VEVENT
DTSTART;VALUE=DATE:20240815
DTEND;VALUE=DATE:20240826
DTSTAMP:20260424T060310
CREATED:20240625T193526Z
LAST-MODIFIED:20240625T193526Z
UID:10000488-1723680000-1724630399@oldstrathcona.ca
SUMMARY:The 43rd Edmonton International Fringe Theatre Festival
DESCRIPTION:The 43rd annual Edmonton International Fringe Theatre Festival returns to the heart of Old Strathcona August 15 – 25\, 2024. \nFind your love for theatre. Find your sense of adventure. Find your “laugh-so-hard- you-cry” moment. Find your fire-spinning\, chainsaw juggling\, jaw dropping WHOA. Find your inner child as your little one experiences the magic of KidsFringe. Find your reason why Edmonton is STILL Festival City. Find your cool sip under the hot sun. Find your story on stage. Find yourself and all your friends at Festival. Find your Fringe! \nFeaturing 216 theatre productions in 38 venues by more than 1\,600 Artists from right here at home\, across Canada\, and more than 11 countries! Fringe offers many ticketed and FREE events – visit our website for details!
URL:https://oldstrathcona.ca/event/edmonton-fringe-festival-2024/
LOCATION:Fringe Grounds\, 10330 84 Ave NW\, Edmonton\, Alberta\, T6E 2G9\, Canada
CATEGORIES:Festivals,Arts
ATTACH;FMTTYPE=image/jpeg:https://oldstrathcona.ca/wp-content/uploads/2024/06/Fringe-Instagram-Square.jpg
END:VEVENT
BEGIN:VEVENT
DTSTART;VALUE=DATE:20230817
DTEND;VALUE=DATE:20230828
DTSTAMP:20260424T060310
CREATED:20230526T205037Z
LAST-MODIFIED:20230526T205037Z
UID:10000396-1692230400-1693180799@oldstrathcona.ca
SUMMARY:The 42nd Edmonton International Fringe Theatre Festival
DESCRIPTION:Any way you fringe\, one thing’s for certain: it’s always an adventure to new frontiers and destinations unknown. Experienced Fringe-stro-nauts and first-time spacewalkers are invited to journey with us to infinity as the 42nd Edmonton International Fringe Theatre Festival returns to the heart of Old Strathcona from August 17 to 27. Grab your zero-grav boots\, tickets\, best fringing pals and your handy guide to the galaxy. The Answer is…FRINGE!   \nAs North America’s largest\, longest-running Fringe Theatre Festival\, we invite you to enjoy live theatre featuring Artists from around the world\, outdoor performances\, ice-cold beer\, green onion cakes\, our ATB Golden Ticket contest\, unpredictable Albertan summer weather\, and so much more!  \nEdmonton Fringe is possible thanks to the generous support of our Funders\, Donors\, Sponsors\, and Volunteers. Our thanks to Lead Festival Partner ATB Financial for supporting the Edmonton International Fringe Theatre Festival.
URL:https://oldstrathcona.ca/event/the-42nd-edmonton-international-fringe-theatre-festival/
LOCATION:Fringe Theatre Arts Barns\, 10330 84 Avenue\, Edmonton\, AB\, T6E2G9
CATEGORIES:Festivals,Arts
ATTACH;FMTTYPE=image/jpeg:https://oldstrathcona.ca/wp-content/uploads/2023/05/fringe.jpeg
END:VEVENT
BEGIN:VEVENT
DTSTART;VALUE=DATE:20220811
DTEND;VALUE=DATE:20220822
DTSTAMP:20260424T060310
CREATED:20220425T205707Z
LAST-MODIFIED:20220527T180551Z
UID:10000252-1660176000-1661126399@oldstrathcona.ca
SUMMARY:Fringe Theatre Festival
DESCRIPTION:Always an Adventure: We’re happy to announce Destination Fringe! Coming to the heart of Old Strathcona August 11-21\, 2022. Any which way you fringe\, one thing’s for certain: it’s always an adventure. Experienced travelers and first-time wanderers are invited to journey into the unknown with us as the 41st Edmonton International Fringe Theatre Festival returns to the heart of Old Strathcona August 11 – 21. Grab your backpack\, Festival Guide\, tickets\, walking shoes\, and best fringing pals. It’s Destination Fringe!Tickets go on sale August 3 at Noon.Edmonton Fringe is possible thanks to the generous support of our funders\, donors\, and sponsors. Our big fringey thanks to Lead Partner and Sponsor ATB Financial (@ATBFinancial) for supporting the Edmonton International Fringe Theatre Festival. \nStay tuned for more info about our amazing theme designer for this year\, Kyle Smith (InkFable Media)! We are back and ready to fringe!
URL:https://oldstrathcona.ca/event/fringe-theatre-festival/
LOCATION:Fringe Theatre ATB Financial Arts Barns\, 10330 84 Avenue\, Edmonton
CATEGORIES:Festivals
ATTACH;FMTTYPE=image/jpeg:https://oldstrathcona.ca/wp-content/uploads/2022/04/MicrosoftTeams-image.jpg
END:VEVENT
BEGIN:VEVENT
DTSTART;TZID=America/Edmonton:20220810T183000
DTEND;TZID=America/Edmonton:20220810T235900
DTSTAMP:20260424T060310
CREATED:20220802T161845Z
LAST-MODIFIED:20220802T161845Z
UID:10000313-1660156200-1660175940@oldstrathcona.ca
SUMMARY:Fringe Street Party
DESCRIPTION:The Street Party is the stuff of Fringe lore. The very first Street Party took place in 1984\, when the Fringe welcomed a then up-and-coming k.d. lang to play to 3\,500 people… the largest audience she’d ever played for at the time. \nIt’s been a while since they’ve hosted a Street Party\, but they wanted to say thank you to their incredible community for standing by them and the live entertainment industry during the pandemic.Fringers\, get ready for this electrifying lineup. The Halluci Nation\, Sudan Archives\, Sampler Café\, and Tzadeka & The Murder Hornettes are lighting up the outdoor stage to kick off Destination Fringe with the biggest\, best Free Street Party ever thrown. Let’s dance!
URL:https://oldstrathcona.ca/event/fringe-street-party/
LOCATION:Fringe Theatre ATB Financial Arts Barns\, 10330 84 Avenue\, Edmonton
CATEGORIES:Festivals
ATTACH;FMTTYPE=image/jpeg:https://oldstrathcona.ca/wp-content/uploads/2022/08/784e0a09-3e81-6662-9b93-6f723d11113c.jpg
END:VEVENT
END:VCALENDAR