BEGIN:VCALENDAR
VERSION:2.0
PRODID:-//Old Strathcona Business Association, Edmonton - ECPv6.15.20//NONSGML v1.0//EN
CALSCALE:GREGORIAN
METHOD:PUBLISH
X-ORIGINAL-URL:https://oldstrathcona.ca
X-WR-CALDESC:Events for Old Strathcona Business Association, Edmonton
REFRESH-INTERVAL;VALUE=DURATION:PT1H
X-Robots-Tag:noindex
X-PUBLISHED-TTL:PT1H
BEGIN:VTIMEZONE
TZID:America/Edmonton
BEGIN:DAYLIGHT
TZOFFSETFROM:-0700
TZOFFSETTO:-0600
TZNAME:MDT
DTSTART:20210314T090000
END:DAYLIGHT
BEGIN:STANDARD
TZOFFSETFROM:-0600
TZOFFSETTO:-0700
TZNAME:MST
DTSTART:20211107T080000
END:STANDARD
BEGIN:DAYLIGHT
TZOFFSETFROM:-0700
TZOFFSETTO:-0600
TZNAME:MDT
DTSTART:20220313T090000
END:DAYLIGHT
BEGIN:STANDARD
TZOFFSETFROM:-0600
TZOFFSETTO:-0700
TZNAME:MST
DTSTART:20221106T080000
END:STANDARD
BEGIN:DAYLIGHT
TZOFFSETFROM:-0700
TZOFFSETTO:-0600
TZNAME:MDT
DTSTART:20230312T090000
END:DAYLIGHT
BEGIN:STANDARD
TZOFFSETFROM:-0600
TZOFFSETTO:-0700
TZNAME:MST
DTSTART:20231105T080000
END:STANDARD
BEGIN:DAYLIGHT
TZOFFSETFROM:-0700
TZOFFSETTO:-0600
TZNAME:MDT
DTSTART:20240310T090000
END:DAYLIGHT
BEGIN:STANDARD
TZOFFSETFROM:-0600
TZOFFSETTO:-0700
TZNAME:MST
DTSTART:20241103T080000
END:STANDARD
BEGIN:DAYLIGHT
TZOFFSETFROM:-0700
TZOFFSETTO:-0600
TZNAME:MDT
DTSTART:20250309T090000
END:DAYLIGHT
BEGIN:STANDARD
TZOFFSETFROM:-0600
TZOFFSETTO:-0700
TZNAME:MST
DTSTART:20251102T080000
END:STANDARD
END:VTIMEZONE
BEGIN:VEVENT
DTSTART;TZID=America/Edmonton:20240316T100000
DTEND;TZID=America/Edmonton:20240316T160000
DTSTAMP:20260424T072321
CREATED:20240305T172926Z
LAST-MODIFIED:20240305T172926Z
UID:10000370-1710583200-1710604800@oldstrathcona.ca
SUMMARY:Love Local MRKT
DESCRIPTION:Love Local Market returns to Old Strathcona with a fun and bustling market filled with all of your favorite local YEG vendors. Support local and shop small from 40+ vendors including FLASH tattoos\, permanent jewellery\, baked goods\, candles\, self care\, gold jewelry\, pet items\, apparel\, art and MUCH more!
URL:https://oldstrathcona.ca/event/love-local-mrkt/
LOCATION:St. Anthony Meeting Centre\, 10425 84 Ave NW\, Edmonton\, Alberta\, Canada
CATEGORIES:Markets
END:VEVENT
BEGIN:VEVENT
DTSTART;TZID=America/Edmonton:20221203T100000
DTEND;TZID=America/Edmonton:20221203T160000
DTSTAMP:20260424T072321
CREATED:20221202T225934Z
LAST-MODIFIED:20221202T225934Z
UID:10000279-1670061600-1670083200@oldstrathcona.ca
SUMMARY:Love Local Market
DESCRIPTION:An intimate\, boutique Christmas shopping experience featuring some of Edmonton’s BEST local quality goods. \nInspired by artisan markets in Europe you can expect a bright\, open market with a beautiful\, clean aesthetic at the Love Local Makers Market. The market will feature 15 makers and high quality artisans selling homemade items\, delicious treats\, fashion finds and beautiful décor plus much much more!
URL:https://oldstrathcona.ca/event/love-local-market-5/
LOCATION:Foundry on Whyte\, 10426 82 Avenue NW\, Edmonton\, Alberta\, T6E2A2\, Canada
CATEGORIES:Markets
ATTACH;FMTTYPE=image/jpeg:https://oldstrathcona.ca/wp-content/uploads/2022/12/316860270_521113660062988_5415899165755636348_n.jpg
END:VEVENT
BEGIN:VEVENT
DTSTART;TZID=America/Edmonton:20221009T120000
DTEND;TZID=America/Edmonton:20221009T120000
DTSTAMP:20260424T072321
CREATED:20220908T171344Z
LAST-MODIFIED:20220930T160000Z
UID:10000335-1665316800-1665316800@oldstrathcona.ca
SUMMARY:Love Local Market
DESCRIPTION:An intimate\, boutique shopping experience featuring some of Edmonton’s BEST local quality goods. \nInspired by artisan markets in Europe you can expect a bright\, open market with a beautiful\, clean aesthetic at the Love Local Makers Market. The market will feature 25 makers and high quality artisans selling homemade items\, delicious treats\, fashion finds and beautiful décor plus much much more!
URL:https://oldstrathcona.ca/event/love-local-market-4/2022-10-09/
LOCATION:Foundry on Whyte\, 10426 82 Avenue NW\, Edmonton\, Alberta\, T6E2A2\, Canada
CATEGORIES:Markets
ATTACH;FMTTYPE=image/jpeg:https://oldstrathcona.ca/wp-content/uploads/2022/09/292471992_10158321786552723_2593833027814394272_n.jpg
END:VEVENT
BEGIN:VEVENT
DTSTART;TZID=America/Edmonton:20220806T120000
DTEND;TZID=America/Edmonton:20220806T180000
DTSTAMP:20260424T072321
CREATED:20220804T175222Z
LAST-MODIFIED:20220908T171219Z
UID:10000317-1659787200-1659808800@oldstrathcona.ca
SUMMARY:Love Local Makers Market
DESCRIPTION:An intimate\, boutique shopping experience featuring Edmonton’s BEST local quality goods. \nInspired by artisan markets in Europe you can expect a bright\, open market with a beautiful\, clean aesthetic this summer at the Love Local Makers Market. The Market will feature 25 makers and high quality artisans selling homemade items\, delicious treats\, fashion finds and beautiful décor plus much much more!
URL:https://oldstrathcona.ca/event/love-local-market-3/
LOCATION:Foundry on Whyte\, 10426 82 Avenue NW\, Edmonton\, Alberta\, T6E2A2\, Canada
CATEGORIES:Markets
ATTACH;FMTTYPE=image/jpeg:https://oldstrathcona.ca/wp-content/uploads/2022/08/IMG-7299.jpg
END:VEVENT
BEGIN:VEVENT
DTSTART;TZID=America/Edmonton:20220730T100000
DTEND;TZID=America/Edmonton:20220730T160000
DTSTAMP:20260424T072321
CREATED:20220720T163921Z
LAST-MODIFIED:20220720T163921Z
UID:10000312-1659175200-1659196800@oldstrathcona.ca
SUMMARY:Love Local Market
DESCRIPTION:An intimate\, boutique shopping experience featuring Edmonton’s BEST local quality goods. \nInspired by artisan markets in Europe you can expect a bright\, open market with a beautiful\, clean aesthetic this summer at the Love Local Makers Market. The Market will feature 25 makers and high quality artisans selling homemade items\, delicious treats\, fashion finds and beautiful décor plus much much more!
URL:https://oldstrathcona.ca/event/love-local-market-2/
LOCATION:Foundry on Whyte\, 10426 82 Avenue NW\, Edmonton\, Alberta\, T6E2A2\, Canada
CATEGORIES:Markets
ATTACH;FMTTYPE=image/png:https://oldstrathcona.ca/wp-content/uploads/2022/07/Screenshot-26.png
END:VEVENT
BEGIN:VEVENT
DTSTART;TZID=America/Edmonton:20220716T110000
DTEND;TZID=America/Edmonton:20220716T160000
DTSTAMP:20260424T072321
CREATED:20220624T191624Z
LAST-MODIFIED:20220624T191624Z
UID:10000300-1657969200-1657987200@oldstrathcona.ca
SUMMARY:Love Local Market
DESCRIPTION:Love Local is an intimate\, boutique shopping experience with a lot of FUN in the mix. Not only is it an incredible shopping experience but on top of it all you will have the best time.
URL:https://oldstrathcona.ca/event/love-local-market/
LOCATION:Foundry on Whyte\, 10426 82 Avenue NW\, Edmonton\, Alberta\, T6E2A2\, Canada
CATEGORIES:Markets
ATTACH;FMTTYPE=image/jpeg:https://oldstrathcona.ca/wp-content/uploads/2022/06/281966222_537498011261721_8417471990247197081_n.jpg
END:VEVENT
END:VCALENDAR