BEGIN:VCALENDAR
VERSION:2.0
PRODID:-//Old Strathcona Business Association, Edmonton - ECPv6.15.20//NONSGML v1.0//EN
CALSCALE:GREGORIAN
METHOD:PUBLISH
X-ORIGINAL-URL:https://oldstrathcona.ca
X-WR-CALDESC:Events for Old Strathcona Business Association, Edmonton
REFRESH-INTERVAL;VALUE=DURATION:PT1H
X-Robots-Tag:noindex
X-PUBLISHED-TTL:PT1H
BEGIN:VTIMEZONE
TZID:America/Edmonton
BEGIN:DAYLIGHT
TZOFFSETFROM:-0700
TZOFFSETTO:-0600
TZNAME:MDT
DTSTART:20220313T090000
END:DAYLIGHT
BEGIN:STANDARD
TZOFFSETFROM:-0600
TZOFFSETTO:-0700
TZNAME:MST
DTSTART:20221106T080000
END:STANDARD
BEGIN:DAYLIGHT
TZOFFSETFROM:-0700
TZOFFSETTO:-0600
TZNAME:MDT
DTSTART:20230312T090000
END:DAYLIGHT
BEGIN:STANDARD
TZOFFSETFROM:-0600
TZOFFSETTO:-0700
TZNAME:MST
DTSTART:20231105T080000
END:STANDARD
BEGIN:DAYLIGHT
TZOFFSETFROM:-0700
TZOFFSETTO:-0600
TZNAME:MDT
DTSTART:20240310T090000
END:DAYLIGHT
BEGIN:STANDARD
TZOFFSETFROM:-0600
TZOFFSETTO:-0700
TZNAME:MST
DTSTART:20241103T080000
END:STANDARD
END:VTIMEZONE
BEGIN:VEVENT
DTSTART;TZID=America/Edmonton:20231031T180000
DTEND;TZID=America/Edmonton:20231031T230000
DTSTAMP:20260425T053625
CREATED:20231010T223006Z
LAST-MODIFIED:20231010T223006Z
UID:10000461-1698775200-1698793200@oldstrathcona.ca
SUMMARY:Blood on the Clocktower
DESCRIPTION:Join us for an evening of cocktails filled with MURDER\, MYSTERY\, and DECEPTION in a social deduction game of good vs evil. We will be decorating the cafe to help create an immersive experience. The more players the better!
URL:https://oldstrathcona.ca/event/blood-on-the-clocktower/
LOCATION:The Hexagon Board Game Cafe\, 10750 82 Ave NW\, Edmonton\, Alberta\, 6E 2A8\, Canada
CATEGORIES:Community
ATTACH;FMTTYPE=application/pdf:https://oldstrathcona.ca/wp-content/uploads/2023/10/BotC-Poster_Edmonton.pdf
END:VEVENT
BEGIN:VEVENT
DTSTART;TZID=America/Edmonton:20230924T110000
DTEND;TZID=America/Edmonton:20230924T170000
DTSTAMP:20260425T053625
CREATED:20230901T152745Z
LAST-MODIFIED:20230901T152850Z
UID:10000456-1695553200-1695574800@oldstrathcona.ca
SUMMARY:Catan Nationals Qualifier Tournament
DESCRIPTION:Hexagon Cafe is so proud to be a host for an official CATAN National Qualifier this year! Players in this tournament will battle it out in a series of games to determine the top CATAN player of each city. The winners will win a guaranteed seat at the next CATAN Canada National Championship (location to be announced) AND a copy of CATAN: 3D Edition. \nThink you’ve got what it takes? Check out our online store to secure your ticket: there are limited seats for both events!
URL:https://oldstrathcona.ca/event/catan-nationals-qualifier-tournament/
LOCATION:The Hexagon Board Game Cafe\, 10750 82 Ave NW\, Edmonton\, Alberta\, 6E 2A8\, Canada
ATTACH;FMTTYPE=image/png:https://oldstrathcona.ca/wp-content/uploads/2023/09/Screenshot-9.png
END:VEVENT
BEGIN:VEVENT
DTSTART;TZID=America/Edmonton:20230916T193000
DTEND;TZID=America/Edmonton:20230916T235900
DTSTAMP:20260425T053625
CREATED:20230901T155440Z
LAST-MODIFIED:20230901T155505Z
UID:10000457-1694892600-1694908740@oldstrathcona.ca
SUMMARY:Cocktails & Cosplay – The EDMONTON EXPO Afterparty
DESCRIPTION:After enjoying Edmonton Expo\, there is no better way to close out the perfect day by heading to Hexagon Board Game Café. Come in your cosplay\, or change into something more comfortable. \nThis exclusive event is all about mingling with other fans. Sip on one of our specialty fandom cocktails and explore our board game library of 1000+ games! Bonus points if you play one that is Marvel\, Star Wars\, or Lord of the Rings themed.
URL:https://oldstrathcona.ca/event/cocktails-cosplay-the-edmonton-expo-afterparty/
LOCATION:The Hexagon Board Game Cafe\, 10750 82 Ave NW\, Edmonton\, Alberta\, 6E 2A8\, Canada
ATTACH;FMTTYPE=image/png:https://oldstrathcona.ca/wp-content/uploads/2023/09/Screenshot-10.png
END:VEVENT
END:VCALENDAR