BEGIN:VCALENDAR
VERSION:2.0
PRODID:-//Old Strathcona Business Association, Edmonton - ECPv6.15.20//NONSGML v1.0//EN
CALSCALE:GREGORIAN
METHOD:PUBLISH
X-ORIGINAL-URL:https://oldstrathcona.ca
X-WR-CALDESC:Events for Old Strathcona Business Association, Edmonton
REFRESH-INTERVAL;VALUE=DURATION:PT1H
X-Robots-Tag:noindex
X-PUBLISHED-TTL:PT1H
BEGIN:VTIMEZONE
TZID:America/Edmonton
BEGIN:DAYLIGHT
TZOFFSETFROM:-0700
TZOFFSETTO:-0600
TZNAME:MDT
DTSTART:20220313T090000
END:DAYLIGHT
BEGIN:STANDARD
TZOFFSETFROM:-0600
TZOFFSETTO:-0700
TZNAME:MST
DTSTART:20221106T080000
END:STANDARD
BEGIN:DAYLIGHT
TZOFFSETFROM:-0700
TZOFFSETTO:-0600
TZNAME:MDT
DTSTART:20230312T090000
END:DAYLIGHT
BEGIN:STANDARD
TZOFFSETFROM:-0600
TZOFFSETTO:-0700
TZNAME:MST
DTSTART:20231105T080000
END:STANDARD
BEGIN:DAYLIGHT
TZOFFSETFROM:-0700
TZOFFSETTO:-0600
TZNAME:MDT
DTSTART:20240310T090000
END:DAYLIGHT
BEGIN:STANDARD
TZOFFSETFROM:-0600
TZOFFSETTO:-0700
TZNAME:MST
DTSTART:20241103T080000
END:STANDARD
END:VTIMEZONE
BEGIN:VEVENT
DTSTART;TZID=America/Edmonton:20230721T190000
DTEND;TZID=America/Edmonton:20230721T213000
DTSTAMP:20260424T162641
CREATED:20230717T195855Z
LAST-MODIFIED:20230717T195855Z
UID:10000440-1689966000-1689975000@oldstrathcona.ca
SUMMARY:Elements Outfitters Edmonton Community Trail Clean Up
DESCRIPTION:Join Elements Outfitters Edmonton for a trail clean-up in the River Valley followed by a wrap up at the store filled with craft beer\, community\, and late night shopping! \nDate: Friday July 21\, 2023 \nTime: 7PM – 745PM \nLocation: Meet at Elements Outfitters Edmonton (8222 Gateway Blvd) and head to clean-up spots together \n  \nRegistration is free (but donations to CPAWS are welcome!) and trail clean-up kits will be provided. Plus\, there will be a post clean-up wrap party at 8PM at the store that will include Bent Stick Brewing beverages\, giveaways and more! CPAWS Northern Alberta will be on site to share their latest initiatives and ways you can support or get involved. \n  \nRegistration: \n1 ticket per volunteer (if you’re registering as a group\, register each individual separately) \n  \nWhat to Bring: \nWater bottle \nLight snack \nSolid-sole shoes \nGarbage grabber or picker\, if you have one \nWeather appropriate clothing \n 
URL:https://oldstrathcona.ca/event/elements-outfitters-edmonton-community-trail-clean-up/
LOCATION:Elements Outfitters Edmonton – Patagonia & Filson 8222 Gateway Boulevard Northwest Edmonton\, AB T6E 4B2\, Edmonton\, Canada
ATTACH;FMTTYPE=image/png:https://oldstrathcona.ca/wp-content/uploads/2023/07/elementsoutfitters.png
END:VEVENT
END:VCALENDAR