BEGIN:VCALENDAR
VERSION:2.0
PRODID:-//Old Strathcona Business Association, Edmonton - ECPv6.15.20//NONSGML v1.0//EN
CALSCALE:GREGORIAN
METHOD:PUBLISH
X-WR-CALNAME:Old Strathcona Business Association, Edmonton
X-ORIGINAL-URL:https://oldstrathcona.ca
X-WR-CALDESC:Events for Old Strathcona Business Association, Edmonton
REFRESH-INTERVAL;VALUE=DURATION:PT1H
X-Robots-Tag:noindex
X-PUBLISHED-TTL:PT1H
BEGIN:VTIMEZONE
TZID:America/Edmonton
BEGIN:DAYLIGHT
TZOFFSETFROM:-0700
TZOFFSETTO:-0600
TZNAME:MDT
DTSTART:20210314T090000
END:DAYLIGHT
BEGIN:STANDARD
TZOFFSETFROM:-0600
TZOFFSETTO:-0700
TZNAME:MST
DTSTART:20211107T080000
END:STANDARD
BEGIN:DAYLIGHT
TZOFFSETFROM:-0700
TZOFFSETTO:-0600
TZNAME:MDT
DTSTART:20220313T090000
END:DAYLIGHT
BEGIN:STANDARD
TZOFFSETFROM:-0600
TZOFFSETTO:-0700
TZNAME:MST
DTSTART:20221106T080000
END:STANDARD
BEGIN:DAYLIGHT
TZOFFSETFROM:-0700
TZOFFSETTO:-0600
TZNAME:MDT
DTSTART:20230312T090000
END:DAYLIGHT
BEGIN:STANDARD
TZOFFSETFROM:-0600
TZOFFSETTO:-0700
TZNAME:MST
DTSTART:20231105T080000
END:STANDARD
BEGIN:DAYLIGHT
TZOFFSETFROM:-0700
TZOFFSETTO:-0600
TZNAME:MDT
DTSTART:20240310T090000
END:DAYLIGHT
BEGIN:STANDARD
TZOFFSETFROM:-0600
TZOFFSETTO:-0700
TZNAME:MST
DTSTART:20241103T080000
END:STANDARD
BEGIN:DAYLIGHT
TZOFFSETFROM:-0700
TZOFFSETTO:-0600
TZNAME:MDT
DTSTART:20250309T090000
END:DAYLIGHT
BEGIN:STANDARD
TZOFFSETFROM:-0600
TZOFFSETTO:-0700
TZNAME:MST
DTSTART:20251102T080000
END:STANDARD
END:VTIMEZONE
BEGIN:VEVENT
DTSTART;TZID=America/Edmonton:20240315T193000
DTEND;TZID=America/Edmonton:20240315T220000
DTSTAMP:20260424T095816
CREATED:20240221T200248Z
LAST-MODIFIED:20240221T201339Z
UID:10000468-1710531000-1710540000@oldstrathcona.ca
SUMMARY:Cosmopolitan Music Society Presents: Spring Series 2024 Monday Band
DESCRIPTION:Dive into the heart of the Cosmopolitan Music Society with the Monday Band at the Old Strathcona Performing Arts Centre on March 15th! \nJoin us for a showcase of the pinnacle of Cosmopolitan Music Society Concert Band Programming. This performance is a testament to the dedication and skill of our members\, making it a must-attend event for music enthusiasts. Come witness the elevated standard of community music on March 15th. \nPerforming at the Old Strathcona Performing Arts Centre\n8426 Gateway Blvd\, Edmonton AB \nDoors at 7:15 PM\nConcert Starts at 7:30 PM\nGeneral Admission Seating \nTickets:\nEarly Bird: $23.13 (including fees)\nAdult: $28.41 (including fees)\nStudent: $17.87 (including fees)\nFree for 5 yrs & under
URL:https://oldstrathcona.ca/event/10883/
LOCATION:Old Strathcona Performing Arts Centre\, 8426 Gateway Blvd\, Edmonton\, Canada
CATEGORIES:Music
END:VEVENT
BEGIN:VEVENT
DTSTART;TZID=America/Edmonton:20240308T193000
DTEND;TZID=America/Edmonton:20240308T220000
DTSTAMP:20260424T095816
CREATED:20240221T195635Z
LAST-MODIFIED:20240221T200331Z
UID:10000467-1709926200-1709935200@oldstrathcona.ca
SUMMARY:Cosmopolitan Music Society Presents: Spring Series 2024 Jazz Orchestra
DESCRIPTION:Unleash the rhythm and swing with the Cosmopolitan Music Society Jazz Orchestra! 🎶 \nGet ready to immerse yourself in a night of toe-tapping melodies as the Jazz Orchestra takes center stage to kick off the CMS Spring Series 2024. This inaugural event marks the beginning of nearly two full months of Friday night concerts as we play in Spring through March and April. \nMark your calendars\, gather your friends\, and join us on March 8th for an unforgettable start to the CMS Spring Series. Experience the energy\, groove\, and improvisation that only jazz can offer. It’s a night you won’t want to miss! \nPerforming at the Old Strathcona Performing Arts Centre\n8426 Gateway Blvd\, Edmonton AB \nDoors at 7:15 PM\nConcert Starts at 7:30 PM\nGeneral Admission Seating \nTickets:\nEarly Bird: $23.13 (including fees)\nAdult: $28.41 (including fees)\nStudent: $17.87 (including fees)\nFree for 5 yrs & under
URL:https://oldstrathcona.ca/event/cosmopolitan-music-society-presents-spring-series-2024-jazz-orchestra/
LOCATION:Old Strathcona Performing Arts Centre\, 8426 Gateway Blvd\, Edmonton\, Canada
CATEGORIES:Music
END:VEVENT
BEGIN:VEVENT
DTSTART;TZID=America/Edmonton:20231111T100000
DTEND;TZID=America/Edmonton:20231111T160000
DTSTAMP:20260424T095816
CREATED:20230929T154942Z
LAST-MODIFIED:20230929T154942Z
UID:10000460-1699696800-1699718400@oldstrathcona.ca
SUMMARY:The Market off Whyte: Indie Craft & Art Show
DESCRIPTION:The Market off Whyte is an awesome holiday shopping indie event featuring the creativity of local and province wide Crafters\, Designers and Artisans. Uniqueness and different is what makes this show so exciting. So if you are looking for a fun and affordable selling opportunity in a one of a kind experience\, join us.
URL:https://oldstrathcona.ca/event/the-market-off-whyte-indie-craft-art-show/2023-11-11/
LOCATION:Old Strathcona Performing Arts Centre\, 8426 Gateway Blvd\, Edmonton\, Canada
ATTACH;FMTTYPE=image/png:https://oldstrathcona.ca/wp-content/uploads/2023/09/Market-Off-Whyte.png
END:VEVENT
BEGIN:VEVENT
DTSTART;TZID=America/Edmonton:20231028T110000
DTEND;TZID=America/Edmonton:20231029T160000
DTSTAMP:20260424T095816
CREATED:20230327T201402Z
LAST-MODIFIED:20230327T201402Z
UID:10000368-1698490800-1698595200@oldstrathcona.ca
SUMMARY:The Cauldron Market
DESCRIPTION:Join the Cauldron Market for their last Edmonton event in 2023. Find 25+ witchy\, weird and wonderful artists\, makers\, tarot reader and more.\nThe Cauldron is all-ages and free to attend.
URL:https://oldstrathcona.ca/event/the-cauldron-market/
LOCATION:Old Strathcona Performing Arts Centre\, 8426 Gateway Blvd\, Edmonton\, Canada
CATEGORIES:Markets
ATTACH;FMTTYPE=image/jpeg:https://oldstrathcona.ca/wp-content/uploads/2023/03/The-Cauldron_square.jpg
END:VEVENT
BEGIN:VEVENT
DTSTART;TZID=America/Edmonton:20231014T100000
DTEND;TZID=America/Edmonton:20231014T160000
DTSTAMP:20260424T095816
CREATED:20230929T154942Z
LAST-MODIFIED:20230929T154942Z
UID:10000459-1697277600-1697299200@oldstrathcona.ca
SUMMARY:The Market off Whyte: Indie Craft & Art Show
DESCRIPTION:The Market off Whyte is an awesome holiday shopping indie event featuring the creativity of local and province wide Crafters\, Designers and Artisans. Uniqueness and different is what makes this show so exciting. So if you are looking for a fun and affordable selling opportunity in a one of a kind experience\, join us.
URL:https://oldstrathcona.ca/event/the-market-off-whyte-indie-craft-art-show/2023-10-14/
LOCATION:Old Strathcona Performing Arts Centre\, 8426 Gateway Blvd\, Edmonton\, Canada
ATTACH;FMTTYPE=image/png:https://oldstrathcona.ca/wp-content/uploads/2023/09/Market-Off-Whyte.png
END:VEVENT
BEGIN:VEVENT
DTSTART;TZID=America/Edmonton:20230630T190000
DTEND;TZID=America/Edmonton:20230630T230000
DTSTAMP:20260424T095816
CREATED:20230315T170858Z
LAST-MODIFIED:20230315T170858Z
UID:10000365-1688151600-1688166000@oldstrathcona.ca
SUMMARY:Alt After Dark night market
DESCRIPTION:Alt After Dark is a night market the last weekend of every month\, just off Whyte Avenue. You’ll always find 35+ vendors\, artists\, designers and local brewers with unique and wonderful items for sale.
URL:https://oldstrathcona.ca/event/alt-after-dark-night-market-4/2023-06-30/
LOCATION:Old Strathcona Performing Arts Centre\, 8426 Gateway Blvd\, Edmonton\, Canada
CATEGORIES:Markets
ATTACH;FMTTYPE=image/png:https://oldstrathcona.ca/wp-content/uploads/2023/03/Blog-Covers.png
END:VEVENT
BEGIN:VEVENT
DTSTART;TZID=America/Edmonton:20230611T110000
DTEND;TZID=America/Edmonton:20230611T180000
DTSTAMP:20260424T095816
CREATED:20230514T190630Z
LAST-MODIFIED:20230514T190630Z
UID:10000394-1686481200-1686506400@oldstrathcona.ca
SUMMARY:Tomo Arts Market - Summer Festival Edition
DESCRIPTION:Tomo Arts Market is a local Edmonton artist alley created by a group of artist friends focusing on alternative art styles\, cute merchandise\, anime prints\, comics and much more! \nWe are back this year for a very summer festival themed event! \nJoin us for a friendly show- a curated hand designed and crafted market featuring 35+ local makers under one roof. Supporting local\, small businesses has never been easier! \nLocated conveniently off of Whyte avenue\, this free event is fully accessible and open to the public! \nPlease help us with crowd control by reserving tickets!! If the venue is at capacity\, priority will given to those holding tickets. \nFirst 30 attendees will be receiving an early bird prize 🐦 \nPlease head to our social media for the latest updates!
URL:https://oldstrathcona.ca/event/tomo-arts-market-summer-festival-edition/
LOCATION:Old Strathcona Performing Arts Centre\, 8426 Gateway Blvd\, Edmonton\, Canada
CATEGORIES:Markets,Arts
ATTACH;FMTTYPE=image/jpeg:https://oldstrathcona.ca/wp-content/uploads/2023/05/https___cdn.evbuc_.com_images_460601989_906463002083_1_original.jpg
END:VEVENT
BEGIN:VEVENT
DTSTART;TZID=America/Edmonton:20230526T190000
DTEND;TZID=America/Edmonton:20230526T230000
DTSTAMP:20260424T095816
CREATED:20230315T170858Z
LAST-MODIFIED:20230315T170858Z
UID:10000364-1685127600-1685142000@oldstrathcona.ca
SUMMARY:Alt After Dark night market
DESCRIPTION:Alt After Dark is a night market the last weekend of every month\, just off Whyte Avenue. You’ll always find 35+ vendors\, artists\, designers and local brewers with unique and wonderful items for sale.
URL:https://oldstrathcona.ca/event/alt-after-dark-night-market-4/2023-05-26/
LOCATION:Old Strathcona Performing Arts Centre\, 8426 Gateway Blvd\, Edmonton\, Canada
CATEGORIES:Markets
ATTACH;FMTTYPE=image/png:https://oldstrathcona.ca/wp-content/uploads/2023/03/Blog-Covers.png
END:VEVENT
BEGIN:VEVENT
DTSTART;TZID=America/Edmonton:20230505T170000
DTEND;TZID=America/Edmonton:20230507T160000
DTSTAMP:20260424T095816
CREATED:20230213T191054Z
LAST-MODIFIED:20230213T191054Z
UID:10000350-1683306000-1683475200@oldstrathcona.ca
SUMMARY:Royal Bison spring 2023
DESCRIPTION:It’s a sure sign of spring when the Royal Bison Art & Craft Fair returns to Old Strathcona. The Bison will be back at the Old Strathcona Performing Arts Centre with two rooms of neat and sweet prints\, books\, ceramics\, clothing\, toys\, local books\, photos\, design\, film\, zines\, woodworking\, music\, and literally so much more.
URL:https://oldstrathcona.ca/event/royal-bison-spring-2023/
LOCATION:Old Strathcona Performing Arts Centre\, 8426 Gateway Blvd\, Edmonton\, Canada
CATEGORIES:Markets,Arts
ATTACH;FMTTYPE=image/png:https://oldstrathcona.ca/wp-content/uploads/2023/02/Royal-Bison-spring-2023_sq.png
END:VEVENT
BEGIN:VEVENT
DTSTART;TZID=America/Edmonton:20230428T190000
DTEND;TZID=America/Edmonton:20230428T230000
DTSTAMP:20260424T095816
CREATED:20230315T170858Z
LAST-MODIFIED:20230315T170858Z
UID:10000363-1682708400-1682722800@oldstrathcona.ca
SUMMARY:Alt After Dark night market
DESCRIPTION:Alt After Dark is a night market the last weekend of every month\, just off Whyte Avenue. You’ll always find 35+ vendors\, artists\, designers and local brewers with unique and wonderful items for sale.
URL:https://oldstrathcona.ca/event/alt-after-dark-night-market-4/2023-04-28/
LOCATION:Old Strathcona Performing Arts Centre\, 8426 Gateway Blvd\, Edmonton\, Canada
CATEGORIES:Markets
ATTACH;FMTTYPE=image/png:https://oldstrathcona.ca/wp-content/uploads/2023/03/Blog-Covers.png
END:VEVENT
BEGIN:VEVENT
DTSTART;TZID=America/Edmonton:20230331T190000
DTEND;TZID=America/Edmonton:20230331T230000
DTSTAMP:20260424T095816
CREATED:20230315T170858Z
LAST-MODIFIED:20230315T170858Z
UID:10000362-1680289200-1680303600@oldstrathcona.ca
SUMMARY:Alt After Dark night market
DESCRIPTION:Alt After Dark is a night market the last weekend of every month\, just off Whyte Avenue. You’ll always find 35+ vendors\, artists\, designers and local brewers with unique and wonderful items for sale.
URL:https://oldstrathcona.ca/event/alt-after-dark-night-market-4/2023-03-31/
LOCATION:Old Strathcona Performing Arts Centre\, 8426 Gateway Blvd\, Edmonton\, Canada
CATEGORIES:Markets
ATTACH;FMTTYPE=image/png:https://oldstrathcona.ca/wp-content/uploads/2023/03/Blog-Covers.png
END:VEVENT
BEGIN:VEVENT
DTSTART;TZID=America/Edmonton:20221202T170000
DTEND;TZID=America/Edmonton:20221204T160000
DTSTAMP:20260424T095816
CREATED:20220908T170328Z
LAST-MODIFIED:20220908T170328Z
UID:10000332-1670000400-1670169600@oldstrathcona.ca
SUMMARY:Royal Bison Art and Craft Fair: Winter 2022
DESCRIPTION:The Royal Bison Art & Craft Fair is back for Winter 2022! Check out amazing art+design+craft for two weekends over the holidays\, right in the heart of Old Strathcona.\n—\nNov 25-27 & Dec 2-4\, 2022\n8426 Gateway Blvd\nThe Old Strathcona Performing Arts Centre\n—\nTwo rooms of neat + sweet art and prints\, apparel\, toys\, ceramics\, local literature\, photography\, design\, film\, zines\, self-gifts\, textiles\, woodworking\, music\, miscellany\, the just plain weird + all your friends!\n—\nFriday 5-9 • Saturday 10-5 • Sunday 10-4\n$4 • kids get in free
URL:https://oldstrathcona.ca/event/royal-bison-art-and-craft-fair-winter-2022/2022-12-02/
LOCATION:Old Strathcona Performing Arts Centre\, 8426 Gateway Blvd\, Edmonton\, Canada
CATEGORIES:Markets
ATTACH;FMTTYPE=image/jpeg:https://oldstrathcona.ca/wp-content/uploads/2022/09/305469606_5785058048192998_1623464228555123772_n.jpg
END:VEVENT
BEGIN:VEVENT
DTSTART;TZID=America/Edmonton:20221125T170000
DTEND;TZID=America/Edmonton:20221127T160000
DTSTAMP:20260424T095816
CREATED:20220908T170328Z
LAST-MODIFIED:20220908T170328Z
UID:10000331-1669395600-1669564800@oldstrathcona.ca
SUMMARY:Royal Bison Art and Craft Fair: Winter 2022
DESCRIPTION:The Royal Bison Art & Craft Fair is back for Winter 2022! Check out amazing art+design+craft for two weekends over the holidays\, right in the heart of Old Strathcona.\n—\nNov 25-27 & Dec 2-4\, 2022\n8426 Gateway Blvd\nThe Old Strathcona Performing Arts Centre\n—\nTwo rooms of neat + sweet art and prints\, apparel\, toys\, ceramics\, local literature\, photography\, design\, film\, zines\, self-gifts\, textiles\, woodworking\, music\, miscellany\, the just plain weird + all your friends!\n—\nFriday 5-9 • Saturday 10-5 • Sunday 10-4\n$4 • kids get in free
URL:https://oldstrathcona.ca/event/royal-bison-art-and-craft-fair-winter-2022/2022-11-25/
LOCATION:Old Strathcona Performing Arts Centre\, 8426 Gateway Blvd\, Edmonton\, Canada
CATEGORIES:Markets
ATTACH;FMTTYPE=image/jpeg:https://oldstrathcona.ca/wp-content/uploads/2022/09/305469606_5785058048192998_1623464228555123772_n.jpg
END:VEVENT
BEGIN:VEVENT
DTSTART;TZID=America/Edmonton:20221112T100000
DTEND;TZID=America/Edmonton:20221112T160000
DTSTAMP:20260424T095816
CREATED:20220908T214818Z
LAST-MODIFIED:20220908T214818Z
UID:10000342-1668247200-1668268800@oldstrathcona.ca
SUMMARY:The Market Off Whyte
DESCRIPTION:The Market off Whyte is an awesome holiday shopping indie event featuring the creativity of local and province-wide crafters\, designers and artisans. It’s unique and different! If you are looking for a fun and affordable one-of-a-kind experience\, join us.
URL:https://oldstrathcona.ca/event/the-market-off-whyte/
LOCATION:Old Strathcona Performing Arts Centre\, 8426 Gateway Blvd\, Edmonton\, Canada
CATEGORIES:Markets
END:VEVENT
BEGIN:VEVENT
DTSTART;VALUE=DATE:20221104
DTEND;VALUE=DATE:20221107
DTSTAMP:20260424T095816
CREATED:20220803T205037Z
LAST-MODIFIED:20220803T205037Z
UID:10000315-1667520000-1667779199@oldstrathcona.ca
SUMMARY:Art From The Unknown 2022
DESCRIPTION:Art From the Unknown is MLA Rachel Notley’s annual art gallery for visual and performing artists. The show provides free hanging space and performance opportunities for emerging Alberta artists. \nThis iconic event is celebrating 16 years of displaying homegrown art\, from every corner of our beautiful province! \nArt From The Unknown 2022 will be a hybrid event. The online gallery will premiere in October and an in-person gallery will be hosted from November 4 to 6 at the Old Strathcona Performing Arts Centre. More than 500 visitors are expected to attend this free event\, and artists will have an opportunity to sell their work.
URL:https://oldstrathcona.ca/event/art-from-the-unknown-2022/
LOCATION:Old Strathcona Performing Arts Centre\, 8426 Gateway Blvd\, Edmonton\, Canada
CATEGORIES:Arts
ATTACH;FMTTYPE=image/png:https://oldstrathcona.ca/wp-content/uploads/2022/08/Screenshot-27.png
END:VEVENT
BEGIN:VEVENT
DTSTART;TZID=America/Edmonton:20221029T110000
DTEND;TZID=America/Edmonton:20221030T160000
DTSTAMP:20260424T095816
CREATED:20221005T180142Z
LAST-MODIFIED:20221005T180142Z
UID:10000268-1667041200-1667145600@oldstrathcona.ca
SUMMARY:The Cauldron Market: Halloween Edition
DESCRIPTION:We are excited to bring you YEG’s newest alternative maker’s market. \n35+ amazing vendors!⁠ \nJoin the Ritual! October 29th from 11 am to 7pm and October 30th from 11 am to 4 pm at 8426 Gateway boulevard⁠. Free Admission & open to all ages⁠
URL:https://oldstrathcona.ca/event/the-cauldron-market-halloween-edition/
LOCATION:Old Strathcona Performing Arts Centre\, 8426 Gateway Blvd\, Edmonton\, Canada
CATEGORIES:Markets
ATTACH;FMTTYPE=image/jpeg:https://oldstrathcona.ca/wp-content/uploads/2022/10/309225578_614410580219623_116495522032238331_n.jpg
END:VEVENT
BEGIN:VEVENT
DTSTART;TZID=America/Edmonton:20221022T100000
DTEND;TZID=America/Edmonton:20221022T170000
DTSTAMP:20260424T095816
CREATED:20221005T180958Z
LAST-MODIFIED:20221005T180958Z
UID:10000270-1666432800-1666458000@oldstrathcona.ca
SUMMARY:Tomo Arts Market: Spooky Edition
DESCRIPTION:Tomo Arts Market is a local Edmonton artist alley created by a group of artist friends focusing on alternative art styles\, cute merchandise\, anime prints\, comics and much more. \nWe are back this year for a very cute spooky fall market! \nJoin us for a friendly show- a curated hand-designed and crafted market featuring 35+ local makers under one roof. Supporting local\, small businesses has never been easier. Located conveniently off of Whyte avenue\, this free event is fully accessible and open to the public! \nFirst 20 attendees will be receiving an early bird prize.
URL:https://oldstrathcona.ca/event/tomo-arts-market-spooky-edition/
LOCATION:Old Strathcona Performing Arts Centre\, 8426 Gateway Blvd\, Edmonton\, Canada
CATEGORIES:Markets
ATTACH;FMTTYPE=image/png:https://oldstrathcona.ca/wp-content/uploads/2022/10/Tomo-Arts-Market.png
END:VEVENT
BEGIN:VEVENT
DTSTART;TZID=America/Edmonton:20220930T190000
DTEND;TZID=America/Edmonton:20220930T230000
DTSTAMP:20260424T095816
CREATED:20220908T210913Z
LAST-MODIFIED:20220908T210913Z
UID:10000339-1664564400-1664578800@oldstrathcona.ca
SUMMARY:Alt After Dark Night Market
DESCRIPTION:Alt After Dark is a regular alternative Night Market located close to Whyte Avenue. 35+ vendors\, artists\, designers and local brewers.
URL:https://oldstrathcona.ca/event/alt-after-dark-night-market-3/
LOCATION:Old Strathcona Performing Arts Centre\, 8426 Gateway Blvd\, Edmonton\, Canada
CATEGORIES:Markets
ATTACH;FMTTYPE=image/jpeg:https://oldstrathcona.ca/wp-content/uploads/2022/09/302133644_2360777097402834_6382593947816977326_n.jpg
END:VEVENT
BEGIN:VEVENT
DTSTART;TZID=America/Edmonton:20220903T120000
DTEND;TZID=America/Edmonton:20220903T170000
DTSTAMP:20260424T095816
CREATED:20220818T161907Z
LAST-MODIFIED:20220818T161907Z
UID:10000323-1662206400-1662224400@oldstrathcona.ca
SUMMARY:Timeless Vintage Market
DESCRIPTION:Your favorite vintage market is back and it’ll be a big one! Don’t miss out on September 3rd back at The Old Strathcona Performing Arts Centre.
URL:https://oldstrathcona.ca/event/timeless-vintage-market-2/
LOCATION:Old Strathcona Performing Arts Centre\, 8426 Gateway Blvd\, Edmonton\, Canada
CATEGORIES:Markets
ATTACH;FMTTYPE=image/png:https://oldstrathcona.ca/wp-content/uploads/2022/08/Screenshot-42.png
END:VEVENT
BEGIN:VEVENT
DTSTART;TZID=America/Edmonton:20220826T190000
DTEND;TZID=America/Edmonton:20220826T230000
DTSTAMP:20260424T095816
CREATED:20220719T203300Z
LAST-MODIFIED:20220719T203300Z
UID:10000309-1661540400-1661554800@oldstrathcona.ca
SUMMARY:Alt After Dark: Night Market
DESCRIPTION:Local vendor night market for all ages! The market will be at the Old Strathcona Performing Arts Centre and runs from 7 pm to 11 pm. \n 
URL:https://oldstrathcona.ca/event/alt-after-dark-night-market-2/
LOCATION:Old Strathcona Performing Arts Centre\, 8426 Gateway Blvd\, Edmonton\, Canada
CATEGORIES:Markets
ATTACH;FMTTYPE=image/png:https://oldstrathcona.ca/wp-content/uploads/2022/06/alt-after-dark-aug-26.png
END:VEVENT
BEGIN:VEVENT
DTSTART;TZID=America/Edmonton:20220716T120000
DTEND;TZID=America/Edmonton:20220716T170000
DTSTAMP:20260424T095816
CREATED:20220706T162143Z
LAST-MODIFIED:20220706T162143Z
UID:10000304-1657972800-1657990800@oldstrathcona.ca
SUMMARY:Timeless Vintage Market
DESCRIPTION:Locally based vintage market with a little bit of everything\, for everyone. Head over to the Old Strathcona Performing Arts Centre from 12:00 pm to 5:00 pm to check out the great vendors!
URL:https://oldstrathcona.ca/event/timeless-vintage-market/
LOCATION:Old Strathcona Performing Arts Centre\, 8426 Gateway Blvd\, Edmonton\, Canada
CATEGORIES:Markets
ATTACH;FMTTYPE=image/png:https://oldstrathcona.ca/wp-content/uploads/2022/07/Screenshot-20.png
END:VEVENT
BEGIN:VEVENT
DTSTART;TZID=America/Edmonton:20220708T193000
DTEND;TZID=America/Edmonton:20220709T210000
DTSTAMP:20260424T095816
CREATED:20220628T215532Z
LAST-MODIFIED:20220628T215532Z
UID:10000302-1657308600-1657400400@oldstrathcona.ca
SUMMARY:New Mythic Works Series
DESCRIPTION:Join Theatre Prospero and Thousand Faces Festival for their New Mythic Works Series on July 8 and 9\, 2022 at 7:30PM at the Old Strathcona Performing Arts Centre\, 8426 Gateway Boulevard NW. \nThe Thousand Faces Festival put out a submission call to Edmonton playwrights for short (10-20 minute) plays based in and around mythology. A blind jury then selected 5 plays and are so excited to be presenting workshop productions of each play for Edmonton audiences!
URL:https://oldstrathcona.ca/event/new-mythic-works-series/
LOCATION:Old Strathcona Performing Arts Centre\, 8426 Gateway Blvd\, Edmonton\, Canada
CATEGORIES:Arts
ATTACH;FMTTYPE=image/png:https://oldstrathcona.ca/wp-content/uploads/2022/06/tff-banner-1.png
END:VEVENT
BEGIN:VEVENT
DTSTART;TZID=America/Edmonton:20220624T190000
DTEND;TZID=America/Edmonton:20220624T230000
DTSTAMP:20260424T095816
CREATED:20220623T232308Z
LAST-MODIFIED:20220623T232308Z
UID:10000295-1656097200-1656111600@oldstrathcona.ca
SUMMARY:Alt After Dark: Night Market
DESCRIPTION:Local vendor pride market at the Old Strathcona Performing Arts Centre. The first 100 attendees will be entered into a door prize raffle featuring great pieces from the local vendors. Open from 7:00 pm to 11:00 pm and open to all ages! \n 
URL:https://oldstrathcona.ca/event/alt-after-dark-night-market/
LOCATION:Old Strathcona Performing Arts Centre\, 8426 Gateway Blvd\, Edmonton\, Canada
CATEGORIES:Markets,Pride
ATTACH;FMTTYPE=image/webp:https://oldstrathcona.ca/wp-content/uploads/2022/06/273379623_166240915729921_5454829908700155530_n.webp
END:VEVENT
BEGIN:VEVENT
DTSTART;TZID=America/Edmonton:20220604T130000
DTEND;TZID=America/Edmonton:20220604T160000
DTSTAMP:20260424T095816
CREATED:20220425T205541Z
LAST-MODIFIED:20220425T205541Z
UID:10000241-1654347600-1654358400@oldstrathcona.ca
SUMMARY:TEDxWhyteAve
DESCRIPTION:In the spirit of ideas worth spreading\, TEDx is a program of local\, self-organized events that bring people together to share a TED-like experience. At a TEDx event\, TEDTalks video and live speakers combine to spark deep discussion and connection in a small group. These local\, self-organized events are branded TEDx\, where x = independently organized TED event. The TED Conference provides general guidance for the TEDx program\, but individual TEDx events are self-organized. \nOur ideas and viewpoints change over time whether that’s within a profession\, within an academic field or throughout an individual’s own experience. For the first annual TEDxWhyteAve event\, organizers want to explore how people’s perceptions have changed throughout their lives and the future implications they create! \nMore details and tickets at the conference website: TEDxWhyteAve
URL:https://oldstrathcona.ca/event/tedxwhyteave/
LOCATION:Old Strathcona Performing Arts Centre\, 8426 Gateway Blvd\, Edmonton\, Canada
ATTACH;FMTTYPE=image/png:https://oldstrathcona.ca/wp-content/uploads/2022/03/TEDx-event-image.png
END:VEVENT
BEGIN:VEVENT
DTSTART;TZID=America/Edmonton:20220506T170000
DTEND;TZID=America/Edmonton:20220508T160000
DTSTAMP:20260424T095816
CREATED:20220503T195329Z
LAST-MODIFIED:20220516T224831Z
UID:10000257-1651856400-1652025600@oldstrathcona.ca
SUMMARY:Royal Bison Art & Craft Fair
DESCRIPTION:Two in-person rooms of neat and sweet prints\, books\, ceramics\, apparel\, toys\, local lit\, photos\, design\, film\, self-gifts\, textiles\, zines\, woodworking\, music\, miscellany\, the just plain weird\, and all your friends! \n70+ top notch local vendors! \nFriday 5pm-9pm\nSaturday 10am-5pm\nSunday 10am-4pm
URL:https://oldstrathcona.ca/event/royal-bison-art-craft-fair/
LOCATION:Old Strathcona Performing Arts Centre\, 8426 Gateway Blvd\, Edmonton\, Canada
CATEGORIES:Markets
ATTACH;FMTTYPE=image/png:https://oldstrathcona.ca/wp-content/uploads/2022/04/Blog-images-2.png
END:VEVENT
END:VCALENDAR