BEGIN:VCALENDAR
VERSION:2.0
PRODID:-//Old Strathcona Business Association, Edmonton - ECPv6.15.20//NONSGML v1.0//EN
CALSCALE:GREGORIAN
METHOD:PUBLISH
X-ORIGINAL-URL:https://oldstrathcona.ca
X-WR-CALDESC:Events for Old Strathcona Business Association, Edmonton
REFRESH-INTERVAL;VALUE=DURATION:PT1H
X-Robots-Tag:noindex
X-PUBLISHED-TTL:PT1H
BEGIN:VTIMEZONE
TZID:America/Edmonton
BEGIN:DAYLIGHT
TZOFFSETFROM:-0700
TZOFFSETTO:-0600
TZNAME:MDT
DTSTART:20220313T090000
END:DAYLIGHT
BEGIN:STANDARD
TZOFFSETFROM:-0600
TZOFFSETTO:-0700
TZNAME:MST
DTSTART:20221106T080000
END:STANDARD
BEGIN:DAYLIGHT
TZOFFSETFROM:-0700
TZOFFSETTO:-0600
TZNAME:MDT
DTSTART:20230312T090000
END:DAYLIGHT
BEGIN:STANDARD
TZOFFSETFROM:-0600
TZOFFSETTO:-0700
TZNAME:MST
DTSTART:20231105T080000
END:STANDARD
BEGIN:DAYLIGHT
TZOFFSETFROM:-0700
TZOFFSETTO:-0600
TZNAME:MDT
DTSTART:20240310T090000
END:DAYLIGHT
BEGIN:STANDARD
TZOFFSETFROM:-0600
TZOFFSETTO:-0700
TZNAME:MST
DTSTART:20241103T080000
END:STANDARD
BEGIN:DAYLIGHT
TZOFFSETFROM:-0700
TZOFFSETTO:-0600
TZNAME:MDT
DTSTART:20250309T090000
END:DAYLIGHT
BEGIN:STANDARD
TZOFFSETFROM:-0600
TZOFFSETTO:-0700
TZNAME:MST
DTSTART:20251102T080000
END:STANDARD
BEGIN:DAYLIGHT
TZOFFSETFROM:-0700
TZOFFSETTO:-0600
TZNAME:MDT
DTSTART:20260308T090000
END:DAYLIGHT
BEGIN:STANDARD
TZOFFSETFROM:-0600
TZOFFSETTO:-0700
TZNAME:MST
DTSTART:20261101T080000
END:STANDARD
BEGIN:DAYLIGHT
TZOFFSETFROM:-0700
TZOFFSETTO:-0600
TZNAME:MDT
DTSTART:20270314T090000
END:DAYLIGHT
BEGIN:STANDARD
TZOFFSETFROM:-0600
TZOFFSETTO:-0700
TZNAME:MST
DTSTART:20271107T080000
END:STANDARD
END:VTIMEZONE
BEGIN:VEVENT
DTSTART;VALUE=DATE:20260305
DTEND;VALUE=DATE:20260316
DTSTAMP:20260424T021451
CREATED:20260127T221823Z
LAST-MODIFIED:20260127T221823Z
UID:10000761-1772668800-1773619199@oldstrathcona.ca
SUMMARY:SkirtsAfire Festival 2026
DESCRIPTION:SkirtsAfire is Edmonton’s theatre and multidisciplinary arts festival featuring and elevating the work of women. In conjunction with International Women’s Day\, SkirtsAfire’s 10-day programming features a wide array of passionate\, transformative and engaging women-led performances\, workshops and exhibits in various disciplines such as: Theatre\, Dance\, Poetry\, Visual Art\, Design\, Music\, Cabaret\, Comedy and more.  \nAlong with their regular programming\, this year’s festival will feature four bold\, brand-new works by women artists: stories that chart identity\, belonging\, healing\, and resistance. These world premieres are at the heart of this year’s theme: The Maps We Make.  \nThe 2026 SkirtsAfire Festival runs March 5 – 15 at various venues in Old Strathcona and the French Quarter\, plus their newest venue in Rossdale: ArtsHub Ortona. There’s lots to see and do at SkirtsAfire – take it all in!  \nLearn more and purchase tickets at skirtsafire.com \nWhen: March 5-15\, 2026\, various times and venues\nCost: Ranges from pay-what-you-can to $30 per person
URL:https://oldstrathcona.ca/event/skirtsafire-festival-2026/
LOCATION:The Gateway Theatre\, 8529 Gateway Blvd\, Edmonton\, AB\, T6E 6P3\, Canada
CATEGORIES:Festivals,Arts
ATTACH;FMTTYPE=image/png:https://oldstrathcona.ca/wp-content/uploads/2026/01/Festival-Image-2026.png
END:VEVENT
BEGIN:VEVENT
DTSTART;TZID=America/Edmonton:20230310T210000
DTEND;TZID=America/Edmonton:20230310T233000
DTSTAMP:20260424T021451
CREATED:20230223T172825Z
LAST-MODIFIED:20230223T172825Z
UID:10000355-1678482000-1678491000@oldstrathcona.ca
SUMMARY:JUNOfest presented by CBC Music  D’orjay The Singing Shaman & Kaeley Jade at The Gateway Theatre
DESCRIPTION:Tickets are $19 including fees. Tickets at the door will be $20 and subject to availability. One dollar from every ticket sold will go to MusiCounts\, Canada’s music education charity for youth. Due to limited capacity\, we highly recommend securing your seat in advance! \nWant to make the most out of SkirtsAfire’s jam-packed 11 days? Festival passes available now. Get 3 shows\, 5 shows or an All Access Pass! \nIn celebration of the JUNOS in Edmonton\, we’re excited to be a part of JUNOfest\, presenting two incredible local bands that are sure to get you dancing all night long! Consider starting off your evening at JUNOfest at Block 1912 presented by CBC Music with local singer-songwriters and some delicious treats! \nFeaturing: \nD’orjay The Singing Shaman\nArtist Sponsored by Duncan Craig LLP \nThis ain’t your grandaddy’s country music\, despite it paying homage to the classic country D’orjay The Singing Shaman grew up with in rural Alberta. And it sure as hell ain’t stadium girls-trucks-beer country. Instead\, she colours outside the lines with anthemic\, bold blues\, honky-tonk and rock-flavoured roots with a distinct queer\, Black twist. Her powerful warm voice guides orchestration featuring piano\, syncopated electric guitar\, paced banjo\, fiddle and steel guitar\, all with a healing self-reflection. \nKaeley Jade \nA vibrant presence with a voice like velvet\, folk-pop singer/songwriter Kaeley Jade weaves lush imagery and hooky melodic lines to craft music that is both poignant and playful. A Summer Solstice Indigenous Music Award nominee\, Kaeley has performed on stages across Canada including the Taste of Edmonton\, Tkaronto Music Festival and World Music Week. Reminiscent of artists like Maggie Rogers and The Lumineers\, her music has received radio play across North America\, has been added to major playlists across streaming giants\, and has been placed in several film and television productions. \nEvent Sponsored by\nLong & McQuade Musical Instruments
URL:https://oldstrathcona.ca/event/junofest-presented-by-cbc-music-dorjay-the-singing-shaman-kaeley-jade-at-the-gateway-theatre/
LOCATION:The Gateway Theatre\, 8529 Gateway Blvd\, Edmonton\, AB\, T6E 6P3\, Canada
CATEGORIES:Arts,Music
ATTACH;FMTTYPE=image/jpeg:https://oldstrathcona.ca/wp-content/uploads/2023/02/SkirtsAfire-Gateway-1200x630-1.jpg
END:VEVENT
END:VCALENDAR