BEGIN:VCALENDAR
VERSION:2.0
PRODID:-//Old Strathcona Business Association, Edmonton - ECPv6.15.20//NONSGML v1.0//EN
CALSCALE:GREGORIAN
METHOD:PUBLISH
X-ORIGINAL-URL:https://oldstrathcona.ca
X-WR-CALDESC:Events for Old Strathcona Business Association, Edmonton
REFRESH-INTERVAL;VALUE=DURATION:PT1H
X-Robots-Tag:noindex
X-PUBLISHED-TTL:PT1H
BEGIN:VTIMEZONE
TZID:America/Edmonton
BEGIN:DAYLIGHT
TZOFFSETFROM:-0700
TZOFFSETTO:-0600
TZNAME:MDT
DTSTART:20210314T090000
END:DAYLIGHT
BEGIN:STANDARD
TZOFFSETFROM:-0600
TZOFFSETTO:-0700
TZNAME:MST
DTSTART:20211107T080000
END:STANDARD
BEGIN:DAYLIGHT
TZOFFSETFROM:-0700
TZOFFSETTO:-0600
TZNAME:MDT
DTSTART:20220313T090000
END:DAYLIGHT
BEGIN:STANDARD
TZOFFSETFROM:-0600
TZOFFSETTO:-0700
TZNAME:MST
DTSTART:20221106T080000
END:STANDARD
BEGIN:DAYLIGHT
TZOFFSETFROM:-0700
TZOFFSETTO:-0600
TZNAME:MDT
DTSTART:20230312T090000
END:DAYLIGHT
BEGIN:STANDARD
TZOFFSETFROM:-0600
TZOFFSETTO:-0700
TZNAME:MST
DTSTART:20231105T080000
END:STANDARD
BEGIN:DAYLIGHT
TZOFFSETFROM:-0700
TZOFFSETTO:-0600
TZNAME:MDT
DTSTART:20240310T090000
END:DAYLIGHT
BEGIN:STANDARD
TZOFFSETFROM:-0600
TZOFFSETTO:-0700
TZNAME:MST
DTSTART:20241103T080000
END:STANDARD
BEGIN:DAYLIGHT
TZOFFSETFROM:-0700
TZOFFSETTO:-0600
TZNAME:MDT
DTSTART:20250309T090000
END:DAYLIGHT
BEGIN:STANDARD
TZOFFSETFROM:-0600
TZOFFSETTO:-0700
TZNAME:MST
DTSTART:20251102T080000
END:STANDARD
BEGIN:DAYLIGHT
TZOFFSETFROM:-0700
TZOFFSETTO:-0600
TZNAME:MDT
DTSTART:20260308T090000
END:DAYLIGHT
BEGIN:STANDARD
TZOFFSETFROM:-0600
TZOFFSETTO:-0700
TZNAME:MST
DTSTART:20261101T080000
END:STANDARD
BEGIN:DAYLIGHT
TZOFFSETFROM:-0700
TZOFFSETTO:-0600
TZNAME:MDT
DTSTART:20270314T090000
END:DAYLIGHT
BEGIN:STANDARD
TZOFFSETFROM:-0600
TZOFFSETTO:-0700
TZNAME:MST
DTSTART:20271107T080000
END:STANDARD
END:VTIMEZONE
BEGIN:VEVENT
DTSTART;TZID=America/Edmonton:20260202T180000
DTEND;TZID=America/Edmonton:20260202T210000
DTSTAMP:20260424T163046
CREATED:20260116T193457Z
LAST-MODIFIED:20260116T193457Z
UID:10000760-1770055200-1770066000@oldstrathcona.ca
SUMMARY:Art Book Basics: Publish your Own Art Book at The Paint Spot
DESCRIPTION:Do you have a story or idea that needs exploring in written form? Do you have a collection of artwork that you want to share with a wide audience? In this deep dive into the publishing industry\, participants will learn how to start their own publishing journey within the context of art books. Join visual artist\, author\, and founder of Wild Skies Press\, Alexis Marie Chute\, in a conversation about how to publish your own art book. Topics will include:  \n• How to get started with your own book—what do you need to have ready?\n• How do you write text for an art book? How do you curate and order your book?\n• Improve your understanding of the various publishing routes: self-publishing\, hybrid publishing\, and traditional publishing. Which is right for you?\n• How do you translate the materials you already have—an artist statement\, an email list\, an active audience—into strong marketing materials for your new book? \nYou will leave this program with a deeper understanding of the publishing industry and where your artwork fits within this world. Alexis Marie Chute will be your guide into this exciting new phase of your career and will finish the evening with a Q&A period\, leaving no stone unturned. \nAbout the Instructor:\nAlexis Marie Chute is a creative powerhouse—a bestselling author and award-winning artist\, filmmaker\, photographer\, curator and publisher—whose work spans two decades. Her abstract paintings\, portraits\, photography\, films\, and literary works have been showcased globally\, and her artwork is represented by the Art Gallery of Alberta. Her debut memoir\, Expecting Sunshine (2017) was adapted into an acclaimed documentary film\, followed by her Amazon-bestselling YA fantasy trilogy\, including Below the Moon (2019)\, and Inside the Sun (2020). Her recent nonfiction books—Memorable Murals (2023)\, Moments in Focus (2024)\, and Project Sketchbook Volume 1 (2025)—celebrate Alberta’s rich culture and landscape. Chute curates the Red Brick Common\, Wild Skies Art Gallery\, and InFocus Photo Exhibit\, and co-founded Wild Skies Press. She is also a passionate public speaker and educator. \nTo see more of Alexis’ work\, check out her Website and Instagram:\nWebsite: alexismariechute.com\nInstagram: alexismariechute \nWhen: Monday\, February 2\, 2026\, at 6PM\nWhere: The Paint Spot\, 10032 81 Ave NW\nCost: $50
URL:https://oldstrathcona.ca/event/art-book-basics-publish-your-own-art-book-at-the-paint-spot/
LOCATION:The Paint Spot\, 10032 81 Avenue NW\, Edmonton\, Alberta\, T6E 1W8\, Canada
CATEGORIES:Arts,Workshop/Class
ATTACH;FMTTYPE=image/png:https://oldstrathcona.ca/wp-content/uploads/2026/01/Alexis-Marie-Chute-Art-Book-Basics.png
END:VEVENT
BEGIN:VEVENT
DTSTART;TZID=America/Edmonton:20260103T090000
DTEND;TZID=America/Edmonton:20260103T210000
DTSTAMP:20260424T163046
CREATED:20251215T214455Z
LAST-MODIFIED:20251215T214455Z
UID:10000756-1767430800-1767474000@oldstrathcona.ca
SUMMARY:The Paint Spot Presents: Unfinished Painting Challenge
DESCRIPTION:Is your goal is to get to your studio more in 2026? Then this challenge is made for you.  \nEvery artist has at least one of those paintings: the one you can’t seem to finish. This is a great opportunity to get rid of those half-finished works cluttering your studio\, and while you’re at it\, get inspired by someone else’s half-finished work. You may decide to swap with another artist. After all\, one person’s junk is another person’s treasure.  \nHowever\, for the painting challenge day\, you can bring your own piece and finish it. We will take before and after images and then you can be part of the exhibition at The Paint Spot. \nWhen: Saturday\, January 3rd\, from 9 AM to 9 PM\nWhere: The Paint Spot\, 10032 81 Ave NW\nCost: FREE! \nThis is part of an ongoing painting exchange event running from mid-December to mid-February. Then all paintings will be collected and put on display at The Paint Spot from February 23 – April 23\, 2026. There will also be an online gallery of the before and after. 
URL:https://oldstrathcona.ca/event/the-paint-spot-unfinished-painting-challenge/
LOCATION:The Paint Spot\, 10032 81 Avenue NW\, Edmonton\, Alberta\, T6E 1W8\, Canada
CATEGORIES:Arts
ATTACH;FMTTYPE=image/jpeg:https://oldstrathcona.ca/wp-content/uploads/2025/12/Unfinished-Challenge-Social-Media-Icon.jpg
END:VEVENT
BEGIN:VEVENT
DTSTART;TZID=America/Edmonton:20250208T100000
DTEND;TZID=America/Edmonton:20250208T160000
DTSTAMP:20260424T163046
CREATED:20250115T210625Z
LAST-MODIFIED:20250115T210625Z
UID:10000561-1739008800-1739030400@oldstrathcona.ca
SUMMARY:The Paint Spot Presents: A Cartoonist's Perspective with Gerry Rasmussen
DESCRIPTION:A one-day drawing workshop by internationally syndicated cartoonist and illustrator Gerry Rasmussen. We will explore drawing from the basics up.  Where do lines and gestures come from\, and how can we use drawing to think and imagine.  We’ll create our own new characters and then make them move and interact with each other while creating worlds for them.  Be prepared to make some mess as we will have a lot of fun with pencils\, pens\, ink\, brushes\, twigs\, and various other drawing tools.  No previous drawing experience necessary! \n  \nAbout the Instructor \nGerry Rasmussen is an internationally syndicated cartoonist who draws the daily comic strip\, Betty\, which appears in newspapers and magazines in seven countries. Before Betty\, they produced the full-colour comic page\, Bub Slug for The Edmonton Journal. Although most of Gerry’s work is ink on paper he is always experimenting with new ways to make images\, from drawing with twigs and sponges dipped in ink\, to painting with coloured ink on birch panels. To see more of Gerry’s work\, check out his Website: www.gerryrasmussen.ca \nWhen: Saturday February 8\, 10am – 4pm\nWhere: Artelier Studios at The Paint Spot\, 10032 81 Ave\nWho: Any skill level – youth or adult\nCost: $80 + supply list
URL:https://oldstrathcona.ca/event/the-paint-spot-presents-a-cartoonists-perspective-with-gerry-rasmussen/
LOCATION:The Paint Spot\, 10032 81 Avenue NW\, Edmonton\, Alberta\, T6E 1W8\, Canada
CATEGORIES:Arts,Workshop/Class
ATTACH;FMTTYPE=image/jpeg:https://oldstrathcona.ca/wp-content/uploads/2025/01/paint-spot-cartoon-class.jpg
END:VEVENT
BEGIN:VEVENT
DTSTART;VALUE=DATE:20250205
DTEND;VALUE=DATE:20250308
DTSTAMP:20260424T163046
CREATED:20250115T205746Z
LAST-MODIFIED:20250115T205746Z
UID:10000560-1738713600-1741391999@oldstrathcona.ca
SUMMARY:From a Cartoonist's Perspective - Art Exhibition at Naess Gallery
DESCRIPTION:Naess Gallery at The Paint Spot presents an exhibition of the process of cartooning featuring actual sketches and preliminary work in various stages. Enjoy an exploded view of the artist’s sketchbook. Although most of Gerry’s work is ink on paper\, he is always experimenting with new ways to make images\, from drawing with twigs and sponges dipped in ink\, to painting with coloured ink on birch panels. \nAbout the Artist\nGerry Rasmussen is an internationally syndicated cartoonist who draws the daily comic strip\, Betty\, which appears in newspapers and magazines in seven countries. Before Betty\, they produced the full-colour comic page\, Bub Slug for The Edmonton Journal. Website: www.gerryrasmussen.ca \n  \nWhen: February 5 – March 7\nWhere: Naess Gallery at The Paint Spot\, 10032 81 Ave\nTickets: Free Admission
URL:https://oldstrathcona.ca/event/from-a-cartoonists-perspective-art-exhibition-at-naess-gallery/
LOCATION:The Paint Spot\, 10032 81 Avenue NW\, Edmonton\, Alberta\, T6E 1W8\, Canada
CATEGORIES:Community,Arts
ATTACH;FMTTYPE=image/jpeg:https://oldstrathcona.ca/wp-content/uploads/2025/01/Paint-Spot-Gerry-Cartoon.jpg
END:VEVENT
BEGIN:VEVENT
DTSTART;TZID=America/Edmonton:20241125T180000
DTEND;TZID=America/Edmonton:20241125T210000
DTSTAMP:20260424T163046
CREATED:20241105T182014Z
LAST-MODIFIED:20241105T182014Z
UID:10000544-1732557600-1732568400@oldstrathcona.ca
SUMMARY:Upcycling Tins - Projects with Paper - Artelier Studios
DESCRIPTION:Upcycling Tins – Projects with Paper Workshop with Shelly Banks\nHave great old vintage tins from cookies\, make-up or even some of your grandmother gave you but hate to throw out?  Well now you can put them to good use with style! Choose from decorative paper from The Japanese Paper Place (chiyogami\, etc) or Lokta paper from Nepal or even old wrapping paper (birthday wrap or xmas wrap) you love but can’t bear to throw out either? Shelly will show you how to create beautiful upcycled tins for gift-giving\, cookies\, mementoes\, or art supply holders by applying paper to edges effortlessly and then cap them off with the tops and bottoms.  A great way to makes what’s old new again. \nAbout the Instructor:\nShelly is an award-winning coloured-pencil artist who also enjoys teaching indigo dyeing\, acrylic\, glass painting and how to make beeswax wraps. She loves exploring a wide range of mediums. Her current passion is oil painting as it creates so much luminosity and vibrancy. She has taught for The Paint Spot for over 6 years now – she loves it! \nWhen: Monday\, November 25th\, from 6:00 PM – 9:00 PM\nWhere: Artelier Studio\, 10045 81 Avenue NW\, Edmonton AB (back alley entrance)\nCost: $50 + Supply List \nClass Limit: 12 Students\, Any Skill Level – Youth or Adult \nSupply List:\n1.    Old tins to cover\n2.    Decorative paper of your choice\n3.    Matte gel (regular or heavy)\n4.    1/2” flat or size 4 flat brush\n5.    Cutting mat—9 x 12 inches or larger\n6.    Small palette paper\n7.    Pencil for marking\n8.    Scissors\n9.    Suitable art clothes\, hand towel\, notebook\, lunch\, drink\, and you!
URL:https://oldstrathcona.ca/event/upcycling-tins-artelier-studios/
LOCATION:The Paint Spot\, 10032 81 Avenue NW\, Edmonton\, Alberta\, T6E 1W8\, Canada
CATEGORIES:Arts,Workshop/Class
ATTACH;FMTTYPE=image/jpeg:https://oldstrathcona.ca/wp-content/uploads/2024/11/covered-tins-01.jpg
END:VEVENT
BEGIN:VEVENT
DTSTART;TZID=America/Edmonton:20241123T180000
DTEND;TZID=America/Edmonton:20241123T210000
DTSTAMP:20260424T163046
CREATED:20241105T181001Z
LAST-MODIFIED:20241105T181331Z
UID:10000543-1732384800-1732395600@oldstrathcona.ca
SUMMARY:Northern Lights Watercolour Landscape - Artelier Studios
DESCRIPTION:Northern Lights Watercolour Landscape with Francis Marte\nDo you want to learn how to paint this Northern Lights in watercolour? The instructor will show you an easy method to paint this popular subject\, that almost paints itself\, using wet-on-wet free-flowing technique. The workshop will be done in three steps – painting the Northern Lights\, distant cityscape and the snow filled hay bales in the foreground. You will also learn how to use masking fluid\, splattering and the use of some gouache. \nWe will use several photo references that you can choose to your liking. The instructor will guide you step-by-step with demos and useful critiques so you can continue to paint these scenery on your future watercolour paintings! \nAbout the Instructor:\nFrancis Marte is a realistic watercolourist with years of professional experience. He has participated in various exhibits and has been featured in international watercolour publications. Francis possesses a strong sense of artistry\, consistently displayed in all his art pieces. He is a well regarded watercolour instructor for emerging watercolourists. \nWhen: Saturday\, November 23rd\, from 6:00 PM – 9:00 PM\nWhere: Artelier Studio\, 10045 81 Avenue NW\, Edmonton AB (back alley entrance)\nCost: $75 ($50 + $25 Supply Fee) \nClass Limit: 12 Students\, Beginners Welcome! \nPlease note: Most supplies are included in the supply fee. Instructor will provide watercolour paint\, masking fluid\, and photo reference. The Paint Spot will provide watercolour paper (Arches 300lb cold press)\, watercolour brushes (round #2\, round #12\, & flat #12)\, 2 palettes\, kneadable eraser\, masking tape\, mounting board.
URL:https://oldstrathcona.ca/event/northern-lights-watercolour-artelier-studios/
LOCATION:The Paint Spot\, 10032 81 Avenue NW\, Edmonton\, Alberta\, T6E 1W8\, Canada
CATEGORIES:Arts,Workshop/Class
ATTACH;FMTTYPE=image/jpeg:https://oldstrathcona.ca/wp-content/uploads/2024/11/Northern-Lights-Francis-Marte-square-e1730830117358.jpg
END:VEVENT
BEGIN:VEVENT
DTSTART;TZID=America/Edmonton:20241121T180000
DTEND;TZID=America/Edmonton:20241121T210000
DTSTAMP:20260424T163046
CREATED:20241105T180121Z
LAST-MODIFIED:20241105T181352Z
UID:10000542-1732212000-1732222800@oldstrathcona.ca
SUMMARY:Intro to Bookbinding: Japanese Stab Binding & Pamphlet Stitch - Artelier Studios
DESCRIPTION:Intro to Bookbinding: Japanese Stab Binding & Pamphlet Stitch Workshop with Shelly Banks\nStill looking for the perfect little book to quickly jot things down\, or can’t find a pretty enough watercolour travel book to get inspired by?  In this 3 hour class Shelly will take you step by step to learn two quick methods of bookbinding: the pamphlet book and the Japanese stab-bound book. The stab bound book is useful when dealing with heavier weight paper such as watercolour paper as it doesn’t require folding.  Pamphlet books are great for stuffing in a back pocket for notes\, keeping in your car\, and great for handmade little hostess gifts. \nAbout the Instructor:\nShelly is an award-winning coloured-pencil artist who also enjoys teaching indigo dyeing\, acrylic\, glass painting and how to make beeswax wraps. She loves exploring a wide range of mediums. Her current passion is oil painting as it creates so much luminosity and vibrancy. She has taught for The Paint Spot for over 6 years now – she loves it! \nWhen: Thursday\, November 21st\, from 6:00 PM – 9:00 PM\nWhere: Artelier Studio\, 10045 81 Avenue NW\, Edmonton AB (back alley entrance)\nCost: $75 ($50 + $25 Supply Fee) \nClass Limit: 12 Students\, Any Skill Level – Youth or Adult
URL:https://oldstrathcona.ca/event/intro-to-bookbinding-artelier-studios/
LOCATION:The Paint Spot\, 10032 81 Avenue NW\, Edmonton\, Alberta\, T6E 1W8\, Canada
CATEGORIES:Arts,Workshop/Class
ATTACH;FMTTYPE=image/jpeg:https://oldstrathcona.ca/wp-content/uploads/2024/11/book-binding-nov-20.jpg
END:VEVENT
BEGIN:VEVENT
DTSTART;VALUE=DATE:20241120
DTEND;VALUE=DATE:20250101
DTSTAMP:20260424T163046
CREATED:20241105T182801Z
LAST-MODIFIED:20241105T182905Z
UID:10000545-1732060800-1735689599@oldstrathcona.ca
SUMMARY:The Paint Spot Presents: 12 Days of Christmas at The Naess Gallery
DESCRIPTION:Christmas Art Show and Sale\nOriginal art is a wonderful Christmas gift idea! Back for popular demand\, The Naess Gallery is pleased to exhibit art for sale by local art instructors from Artelier Studio and the staff of The Paint Spot. We encourage you to invest in art because it adds a unique touch to spaces in your home or office while supporting local talent. The show features many small\, affordable pieces. \nArt may be purchased in person ‘cash-and-carry’ or previewed in the scrolling the gallery below. Do you see something you like? You are invited to send an email or phone 780 432 0240 to put the item on hold. We will send you an invoice to pay online and pick-up later. We will hold unpaid art for 24 hours.
URL:https://oldstrathcona.ca/event/the-paint-spot-christmas-at-the-naess-gallery/
LOCATION:The Paint Spot\, 10032 81 Avenue NW\, Edmonton\, Alberta\, T6E 1W8\, Canada
CATEGORIES:Markets,Arts
ATTACH;FMTTYPE=image/jpeg:https://oldstrathcona.ca/wp-content/uploads/2024/11/Xmas-Art-paint-spot.jpg
END:VEVENT
BEGIN:VEVENT
DTSTART;VALUE=DATE:20241113
DTEND;VALUE=DATE:20241205
DTSTAMP:20260424T163046
CREATED:20241105T175314Z
LAST-MODIFIED:20241105T181428Z
UID:10000541-1731456000-1733356799@oldstrathcona.ca
SUMMARY:Intro to Marbling Class - Artelier Studios
DESCRIPTION:Intro to Marbling – 4 Week Series with Cate Kuzik\nIn this workshop\, you’ll explore Ebru\, the ancient Turkish art of marbling. You’ll learn the preparation and equipment required\, some of the traditional marbling patterns\, and how to create them while discussing the various inks and paints used for each. Often described as “painting on water” Ebru is the traditional Turkish art of creating patterns by sprinkling and brushing pigments on the surface of a liquid and picking them up with paper or fabric\, creating uniquely colourful fluid art. \nAbout the Instructor:\nCate Kuzik or\, Ochre Lea is multidisciplinary studio with a love of colour\, traditional printmaking techniques and mechanical machinery. We aim during this increasingly mass production\, digital age to create simple\, colourful leather and paper goods made to last\, handcrafted with care. \nWhen: Wednesdays\, NOV 13\, 20\, 27 and DEC 4\, from 6:00 PM – 9:00 PM\nWhere: Artelier Studio\, 10045 81 Avenue NW\, Edmonton AB (back alley entrance)\nCost: $245 ($215 + $30 Supply Fee) \nClass Limit: 12 Students\, Any Skill Level – Youth or Adult \nPlease note: Instructor will supply most supplies needed for this class\, including sample packs of papers\, fabric\, leather and wood. Over 40 colours to marble with\, allum and carrageenan trays and tools.
URL:https://oldstrathcona.ca/event/intro-to-marbling-class-artelier-studios/
LOCATION:The Paint Spot\, 10032 81 Avenue NW\, Edmonton\, Alberta\, T6E 1W8\, Canada
CATEGORIES:Arts,Workshop/Class
ATTACH;FMTTYPE=image/jpeg:https://oldstrathcona.ca/wp-content/uploads/2024/11/4-week-marbling-class-square-e1730829187301.jpg
END:VEVENT
BEGIN:VEVENT
DTSTART;VALUE=DATE:20240501
DTEND;VALUE=DATE:20240508
DTSTAMP:20260424T163046
CREATED:20240426T174022Z
LAST-MODIFIED:20240426T174442Z
UID:10000382-1714521600-1715126399@oldstrathcona.ca
SUMMARY:Urban Sketching Week
DESCRIPTION:Coming up May 1-7\, 2024 is International Urban Sketchers Week. \nIt’s an event happening all over the world and open to anyone interested in urban sketching. \nWe’ve put together a list of daily prompts to inspire you for the week and are connecting with a few other local groups and The Paint Spot to share the love of drawing in our community. The themes will focus in on the Old Strathcona area but the prompts are general enough that you should be able to join in on the fun and sketch from anywhere.
URL:https://oldstrathcona.ca/event/urban-sketching-week/
LOCATION:Whyte Avenue\, Edmonton\, Canada
CATEGORIES:Community,Arts,Workshop/Class
ATTACH;FMTTYPE=image/jpeg:https://oldstrathcona.ca/wp-content/uploads/2024/04/Urban-Sketching-Notes-scaled-e1714153128991.jpg
END:VEVENT
BEGIN:VEVENT
DTSTART;TZID=America/Edmonton:20230817T120000
DTEND;TZID=America/Edmonton:20230819T170000
DTSTAMP:20260424T163047
CREATED:20230809T220106Z
LAST-MODIFIED:20230809T220217Z
UID:10000450-1692273600-1692464400@oldstrathcona.ca
SUMMARY:Sidewalk Sale @ The Paint Spot
DESCRIPTION:We’re making room for new products this fall\, so this summer event is the best time to pick up some great deals. There are many drawing materials\, sketchbooks\, portfolios\, acrylics and oils so there’s something for every kind of artist\, Drop by and try something new or pick up an old friend at a great deal. \nJoin us Aug 17 (12-8pm)\, 18 (12-5pm)\, and 19 (12-5pm) at the Paint Spot for our second annual Sidewalk Sale! The event is best experienced in person. \n 
URL:https://oldstrathcona.ca/event/sidewalk-sale-the-paint-spot/
LOCATION:The Paint Spot\, 10032 81 Avenue NW\, Edmonton\, Alberta\, T6E 1W8\, Canada
CATEGORIES:Arts
ATTACH;FMTTYPE=image/png:https://oldstrathcona.ca/wp-content/uploads/2023/08/paintspotevent.png
END:VEVENT
BEGIN:VEVENT
DTSTART;TZID=America/Edmonton:20230707T080000
DTEND;TZID=America/Edmonton:20230926T170000
DTSTAMP:20260424T163047
CREATED:20230809T221337Z
LAST-MODIFIED:20230809T221414Z
UID:10000451-1688716800-1695747600@oldstrathcona.ca
SUMMARY:Big\, Big Pop!
DESCRIPTION:The Paint Spot will fill the gallery and store\, from front to back and side to side\, with your portraits of superheroes\, political figures\, comic characters\, toys\, gaming avatars — whoever/whatever pop Art is to you.\n\n\n\n\n\n\n\nEveryone is invited to participate! It’s as easy as 1-2-3: \n\nGet a 12×12” gallery profile canvas or birch panel.\nCreate an image related to the Pop Art theme.\nBring it in! Deliver it to The Paint Spot from May 30 to August 31\, 2023.
URL:https://oldstrathcona.ca/event/big-big-pop/
LOCATION:The Paint Spot\, 10032 81 Avenue NW\, Edmonton\, Alberta\, T6E 1W8\, Canada
ATTACH;FMTTYPE=image/jpeg:https://oldstrathcona.ca/wp-content/uploads/2023/08/bigpop.jpg
END:VEVENT
BEGIN:VEVENT
DTSTART;TZID=America/Edmonton:20220714T120000
DTEND;TZID=America/Edmonton:20220716T170000
DTSTAMP:20260424T163047
CREATED:20220624T165618Z
LAST-MODIFIED:20220624T165618Z
UID:10000296-1657800000-1657990800@oldstrathcona.ca
SUMMARY:The Paint Spot Sidewalk Sale
DESCRIPTION:The Paint Spot is making room for new products\, so come and check out some last chance items. From drawing materials\, sketchbooks\, portfolios\, acrylics and oils\, there’s something for every kind of artist\, so drop by and try something new or pick up an old friend at a great deal. You’ll find two tents of great art deals all weekend long. \nArtists with supplies they’d like to sell or swap can also bring their own table and chair and join the sale! (No drop-offs\, please check with The Paint Spot about space on the street before July 14.) \nJuly 14\, 12:00 pm – 8:00 pm \nJuly 15\, 12:00 pm – 5:00 pm \nJuly 16\, 12:00 pm – 5:00 pm
URL:https://oldstrathcona.ca/event/the-paint-spot-sidewalk-sale/
LOCATION:The Paint Spot\, 10032 81 Avenue NW\, Edmonton\, Alberta\, T6E 1W8\, Canada
CATEGORIES:Markets
ATTACH;FMTTYPE=image/jpeg:https://oldstrathcona.ca/wp-content/uploads/2022/06/thumbnail_Paint-Spot-Sidewalk-Sale-2022.jpg
END:VEVENT
END:VCALENDAR